BEGIN:VCALENDAR
VERSION:2.0
PRODID:-//Tim Bateman Entertainment - ECPv6.15.20//NONSGML v1.0//EN
CALSCALE:GREGORIAN
METHOD:PUBLISH
X-ORIGINAL-URL:https://timbatemanentertainment.com
X-WR-CALDESC:Events for Tim Bateman Entertainment
REFRESH-INTERVAL;VALUE=DURATION:PT1H
X-Robots-Tag:noindex
X-PUBLISHED-TTL:PT1H
BEGIN:VTIMEZONE
TZID:America/Phoenix
BEGIN:STANDARD
TZOFFSETFROM:-0700
TZOFFSETTO:-0700
TZNAME:MST
DTSTART:20240101T000000
END:STANDARD
END:VTIMEZONE
BEGIN:VEVENT
DTSTART;TZID=America/Phoenix:20250510T190000
DTEND;TZID=America/Phoenix:20250510T203000
DTSTAMP:20260425T072616
CREATED:20240607T180300Z
LAST-MODIFIED:20241208T121940Z
UID:5820-1746903600-1746909000@timbatemanentertainment.com
SUMMARY:Del Webb Davenport\, Davenport FL.
DESCRIPTION:
URL:https://timbatemanentertainment.com/event/del-webb-davenport-davenport-fl/
CATEGORIES:Private Event
ATTACH;FMTTYPE=image/png:https://timbatemanentertainment.com/wp-content/uploads/2019/09/bkgrnd-rev-1.png
END:VEVENT
END:VCALENDAR