BEGIN:VCALENDAR
VERSION:2.0
PRODID:-//Tim Bateman Entertainment - ECPv6.15.20//NONSGML v1.0//EN
CALSCALE:GREGORIAN
METHOD:PUBLISH
X-WR-CALNAME:Tim Bateman Entertainment
X-ORIGINAL-URL:https://timbatemanentertainment.com
X-WR-CALDESC:Events for Tim Bateman Entertainment
REFRESH-INTERVAL;VALUE=DURATION:PT1H
X-Robots-Tag:noindex
X-PUBLISHED-TTL:PT1H
BEGIN:VTIMEZONE
TZID:America/Phoenix
BEGIN:STANDARD
TZOFFSETFROM:-0700
TZOFFSETTO:-0700
TZNAME:MST
DTSTART:20240101T000000
END:STANDARD
END:VTIMEZONE
BEGIN:VEVENT
DTSTART;TZID=America/Phoenix:20250202T190000
DTEND;TZID=America/Phoenix:20250202T200000
DTSTAMP:20260425T122327
CREATED:20240529T215108Z
LAST-MODIFIED:20241208T122445Z
UID:5815-1738522800-1738526400@timbatemanentertainment.com
SUMMARY:Bonnybrook Social Club - The Villages\, FL.
DESCRIPTION:
URL:https://timbatemanentertainment.com/event/bonnybrook-social-club-the-villages-fl/
CATEGORIES:Private Event
ATTACH;FMTTYPE=image/jpeg:https://timbatemanentertainment.com/wp-content/uploads/2024/05/2015-Apr-Scottsdale-Center-for-the-Arts.jpg
END:VEVENT
BEGIN:VEVENT
DTSTART;TZID=America/Phoenix:20250209T080000
DTEND;TZID=America/Phoenix:20250216T170000
DTSTAMP:20260425T122327
CREATED:20241208T123415Z
LAST-MODIFIED:20241208T123415Z
UID:5846-1739088000-1739725200@timbatemanentertainment.com
SUMMARY:MSC Cruises - MSC Seashore - Caribbean Itinerary
DESCRIPTION:
URL:https://timbatemanentertainment.com/event/msc-cruises-msc-seashore-caribbean-itinerary/
ATTACH;FMTTYPE=image/png:https://timbatemanentertainment.com/wp-content/uploads/2019/09/bkgrnd-rev-2.png
END:VEVENT
END:VCALENDAR