BEGIN:VCALENDAR
VERSION:2.0
PRODID:-//Tim Bateman Entertainment - ECPv6.15.20//NONSGML v1.0//EN
CALSCALE:GREGORIAN
METHOD:PUBLISH
X-ORIGINAL-URL:https://timbatemanentertainment.com
X-WR-CALDESC:Events for Tim Bateman Entertainment
REFRESH-INTERVAL;VALUE=DURATION:PT1H
X-Robots-Tag:noindex
X-PUBLISHED-TTL:PT1H
BEGIN:VTIMEZONE
TZID:America/Phoenix
BEGIN:STANDARD
TZOFFSETFROM:-0700
TZOFFSETTO:-0700
TZNAME:MST
DTSTART:20240101T000000
END:STANDARD
END:VTIMEZONE
BEGIN:VEVENT
DTSTART;TZID=America/Phoenix:20250103T184500
DTEND;TZID=America/Phoenix:20250103T193000
DTSTAMP:20260425T135558
CREATED:20240618T185258Z
LAST-MODIFIED:20241208T122854Z
UID:5824-1735929900-1735932600@timbatemanentertainment.com
SUMMARY:Beaumont at Wildwood - Beaumont\, FL.
DESCRIPTION:
URL:https://timbatemanentertainment.com/event/beaumont-at-wildwood-beaumont-fl/
CATEGORIES:Private Event
ATTACH;FMTTYPE=image/jpeg:https://timbatemanentertainment.com/wp-content/uploads/2024/06/No-1-Headshot.jpg
END:VEVENT
END:VCALENDAR