BEGIN:VCALENDAR
VERSION:2.0
PRODID:-//Tim Bateman Entertainment - ECPv6.15.20//NONSGML v1.0//EN
CALSCALE:GREGORIAN
METHOD:PUBLISH
X-WR-CALNAME:Tim Bateman Entertainment
X-ORIGINAL-URL:https://timbatemanentertainment.com
X-WR-CALDESC:Events for Tim Bateman Entertainment
REFRESH-INTERVAL;VALUE=DURATION:PT1H
X-Robots-Tag:noindex
X-PUBLISHED-TTL:PT1H
BEGIN:VTIMEZONE
TZID:America/Phoenix
BEGIN:STANDARD
TZOFFSETFROM:-0700
TZOFFSETTO:-0700
TZNAME:MST
DTSTART:20200101T000000
END:STANDARD
END:VTIMEZONE
BEGIN:VEVENT
DTSTART;TZID=America/Phoenix:20211113T203000
DTEND;TZID=America/Phoenix:20211113T203000
DTSTAMP:20260425T093640
CREATED:20210809T212708Z
LAST-MODIFIED:20211026T175506Z
UID:5606-1636835400-1636835400@timbatemanentertainment.com
SUMMARY:Private Event - Biltmore Estates - Phoenix\, AZ
DESCRIPTION:
URL:https://timbatemanentertainment.com/event/stir-crazy-comedy-club-glendale-az-18/
CATEGORIES:Private Event
END:VEVENT
BEGIN:VEVENT
DTSTART;TZID=America/Phoenix:20211111T190000
DTEND;TZID=America/Phoenix:20211111T190000
DTSTAMP:20260425T093640
CREATED:20211102T132013Z
LAST-MODIFIED:20211102T132013Z
UID:5621-1636657200-1636657200@timbatemanentertainment.com
SUMMARY:Elks Theatre - Prescott\, AZ
DESCRIPTION:
URL:https://timbatemanentertainment.com/event/elks-theatre-prescott-az/
CATEGORIES:Comedy Show
END:VEVENT
BEGIN:VEVENT
DTSTART;TZID=America/Phoenix:20211015T193000
DTEND;TZID=America/Phoenix:20211015T193000
DTSTAMP:20260425T093640
CREATED:20210129T225303Z
LAST-MODIFIED:20210129T225303Z
UID:5516-1634326200-1634326200@timbatemanentertainment.com
SUMMARY:Private Event - The Fun Lakers\, Sun Lakes AZ
DESCRIPTION:
URL:https://timbatemanentertainment.com/event/private-event-the-fun-lakers-sun-lakes-az/
CATEGORIES:Private Event
END:VEVENT
BEGIN:VEVENT
DTSTART;TZID=America/Phoenix:20210925T153000
DTEND;TZID=America/Phoenix:20210925T153000
DTSTAMP:20260425T093640
CREATED:20210330T192429Z
LAST-MODIFIED:20210330T192429Z
UID:5542-1632583800-1632583800@timbatemanentertainment.com
SUMMARY:Private Event - The Policeman's Ball\, Prescott AZ
DESCRIPTION:
URL:https://timbatemanentertainment.com/event/private-event-the-policemans-ball-prescott-az/
CATEGORIES:Private Event
END:VEVENT
BEGIN:VEVENT
DTSTART;TZID=America/Phoenix:20210917T190000
DTEND;TZID=America/Phoenix:20210917T190000
DTSTAMP:20260425T093640
CREATED:20210717T221958Z
LAST-MODIFIED:20210717T221958Z
UID:5596-1631905200-1631905200@timbatemanentertainment.com
SUMMARY:Down Time Wines\, Chandler AZ
DESCRIPTION:
URL:https://timbatemanentertainment.com/event/down-time-wines-chandler-az/
CATEGORIES:Comedy Show
END:VEVENT
BEGIN:VEVENT
DTSTART;TZID=America/Phoenix:20210912T160000
DTEND;TZID=America/Phoenix:20210912T160000
DTSTAMP:20260425T093640
CREATED:20210707T230343Z
LAST-MODIFIED:20210707T230343Z
UID:5587-1631462400-1631462400@timbatemanentertainment.com
SUMMARY:AV Comedy Festival\, Lancaster CA
DESCRIPTION:V
URL:https://timbatemanentertainment.com/event/av-comedy-festival-lancaster-ca-2/
CATEGORIES:Comedy Show
END:VEVENT
BEGIN:VEVENT
DTSTART;TZID=America/Phoenix:20210911T140000
DTEND;TZID=America/Phoenix:20210911T140000
DTSTAMP:20260425T093640
CREATED:20210707T230205Z
LAST-MODIFIED:20210707T230205Z
UID:5585-1631368800-1631368800@timbatemanentertainment.com
SUMMARY:AV Comedy Festival\, Lancaster CA
DESCRIPTION:
URL:https://timbatemanentertainment.com/event/av-comedy-festival-lancaster-ca/
CATEGORIES:Comedy Show
END:VEVENT
BEGIN:VEVENT
DTSTART;TZID=America/Phoenix:20210910T190000
DTEND;TZID=America/Phoenix:20210910T190000
DTSTAMP:20260425T093640
CREATED:20210809T212415Z
LAST-MODIFIED:20210809T212415Z
UID:5602-1631300400-1631300400@timbatemanentertainment.com
SUMMARY:Private Event - Sun Lakes Country Club\, Banning CA
DESCRIPTION:
URL:https://timbatemanentertainment.com/event/private-event-sun-lakes-country-club-banning-ca/
CATEGORIES:Private Event
END:VEVENT
BEGIN:VEVENT
DTSTART;TZID=America/Phoenix:20210803T200000
DTEND;TZID=America/Phoenix:20210803T200000
DTSTAMP:20260425T093640
CREATED:20210712T010122Z
LAST-MODIFIED:20210712T010122Z
UID:5593-1628020800-1628020800@timbatemanentertainment.com
SUMMARY:Private Event - Stone and Barrel Restaurant\, Sun Lakes AZ
DESCRIPTION:
URL:https://timbatemanentertainment.com/event/private-event-stone-and-barrel-restaurant-sun-lakes-az/
CATEGORIES:Private Event
END:VEVENT
BEGIN:VEVENT
DTSTART;TZID=America/Phoenix:20210723T150000
DTEND;TZID=America/Phoenix:20210723T150000
DTSTAMP:20260425T093640
CREATED:20210621T185818Z
LAST-MODIFIED:20210621T185818Z
UID:5576-1627052400-1627052400@timbatemanentertainment.com
SUMMARY:Private Event - Liv Generations\, Phoenix AZ
DESCRIPTION:
URL:https://timbatemanentertainment.com/event/private-event-liv-generations-phoenix-az/
CATEGORIES:Private Event
END:VEVENT
BEGIN:VEVENT
DTSTART;TZID=America/Phoenix:20210715T163000
DTEND;TZID=America/Phoenix:20210715T180000
DTSTAMP:20260425T093640
CREATED:20210510T214254Z
LAST-MODIFIED:20210510T214423Z
UID:5564-1626366600-1626372000@timbatemanentertainment.com
SUMMARY:Private Event - Trilogy at Power Ranch\, Gilbert AZ
DESCRIPTION:
URL:https://timbatemanentertainment.com/event/private-shows-trilogy-at-power-ranch-gilbert-az/
CATEGORIES:Private Event
END:VEVENT
BEGIN:VEVENT
DTSTART;TZID=America/Phoenix:20210704T190000
DTEND;TZID=America/Phoenix:20210704T190000
DTSTAMP:20260425T093640
CREATED:20210524T193150Z
LAST-MODIFIED:20210524T193150Z
UID:5568-1625425200-1625425200@timbatemanentertainment.com
SUMMARY:Clean Comedy Show - Stir Crazy CC\, Glendale AZ
DESCRIPTION:
URL:https://timbatemanentertainment.com/event/clean-comedy-show-stir-crazy-cc-glendale-az/
CATEGORIES:Comedy Show
END:VEVENT
BEGIN:VEVENT
DTSTART;TZID=America/Phoenix:20210612T173000
DTEND;TZID=America/Phoenix:20210612T173000
DTSTAMP:20260425T093640
CREATED:20210409T230911Z
LAST-MODIFIED:20210409T230911Z
UID:5549-1623519000-1623519000@timbatemanentertainment.com
SUMMARY:Private Event - Glitter&Guns - Saddle Mtn Brewery\, Goodyear AZ
DESCRIPTION:
URL:https://timbatemanentertainment.com/event/private-event-glitterguns-saddle-mtn-brewery-goodyear-az/
CATEGORIES:Private Event
END:VEVENT
BEGIN:VEVENT
DTSTART;TZID=America/Phoenix:20210530T190000
DTEND;TZID=America/Phoenix:20210530T190000
DTSTAMP:20260425T093640
CREATED:20210427T184442Z
LAST-MODIFIED:20210525T054415Z
UID:5558-1622401200-1622401200@timbatemanentertainment.com
SUMMARY:Stand Up Live with Bret Ernst\, Phoenix AZ
DESCRIPTION:
URL:https://timbatemanentertainment.com/event/tempe-improv-with-jon-lovitz-tempe-az-2/
CATEGORIES:Comedy Show
END:VEVENT
BEGIN:VEVENT
DTSTART;TZID=America/Phoenix:20210529T190000
DTEND;TZID=America/Phoenix:20210529T213000
DTSTAMP:20260425T093640
CREATED:20210427T184338Z
LAST-MODIFIED:20210525T054304Z
UID:5556-1622314800-1622323800@timbatemanentertainment.com
SUMMARY:Stand Up Live with Bret Ernst\, Phoenix AZ
DESCRIPTION:
URL:https://timbatemanentertainment.com/event/tempe-improv-with-jon-lovitz-tempe-az/
CATEGORIES:Comedy Show
END:VEVENT
BEGIN:VEVENT
DTSTART;TZID=America/Phoenix:20210528T190000
DTEND;TZID=America/Phoenix:20210528T214500
DTSTAMP:20260425T093640
CREATED:20210427T184206Z
LAST-MODIFIED:20210525T054201Z
UID:5554-1622228400-1622238300@timbatemanentertainment.com
SUMMARY:Stand Up Live with Bret Ernst\, Phoenix AZ
DESCRIPTION:
URL:https://timbatemanentertainment.com/event/tempe-improv-with-john-lovitz-tempe-az/
CATEGORIES:Comedy Show
END:VEVENT
BEGIN:VEVENT
DTSTART;TZID=America/Phoenix:20210527T200000
DTEND;TZID=America/Phoenix:20210527T200000
DTSTAMP:20260425T093640
CREATED:20210427T183716Z
LAST-MODIFIED:20210525T054031Z
UID:5552-1622145600-1622145600@timbatemanentertainment.com
SUMMARY:Stand Up Live with Bret Ernst\, Phoenix AZ
DESCRIPTION:
URL:https://timbatemanentertainment.com/event/cb-live-at-desert-ridge-with-john-lovitz-phoenix-az/
CATEGORIES:Comedy Show
END:VEVENT
BEGIN:VEVENT
DTSTART;TZID=America/Phoenix:20210428T183000
DTEND;TZID=America/Phoenix:20210428T183000
DTSTAMP:20260425T093640
CREATED:20210129T225028Z
LAST-MODIFIED:20210319T162310Z
UID:5514-1619634600-1619634600@timbatemanentertainment.com
SUMMARY:Private Event - Phoenix Manager's Association - Tempe AZ
DESCRIPTION:
URL:https://timbatemanentertainment.com/event/private-event-phoenix-managers-association-tba/
CATEGORIES:Private Event
END:VEVENT
BEGIN:VEVENT
DTSTART;TZID=America/Phoenix:20210422T160000
DTEND;TZID=America/Phoenix:20210422T160000
DTSTAMP:20260425T093640
CREATED:20210304T181656Z
LAST-MODIFIED:20210304T181656Z
UID:5524-1619107200-1619107200@timbatemanentertainment.com
SUMMARY:Private Event - Overture Kierland\, Scottsdale AZ
DESCRIPTION:
URL:https://timbatemanentertainment.com/event/private-event-overture-kierland-scottsdale-az/
CATEGORIES:Private Event
END:VEVENT
BEGIN:VEVENT
DTSTART;TZID=America/Phoenix:20210416T190000
DTEND;TZID=America/Phoenix:20210416T190000
DTSTAMP:20260425T093640
CREATED:20210319T161540Z
LAST-MODIFIED:20210330T192042Z
UID:5537-1618599600-1618599600@timbatemanentertainment.com
SUMMARY:True Grit Tavern\, Maricopa AZ
DESCRIPTION:
URL:https://timbatemanentertainment.com/event/private-event-true-grit-tavern-maricopa-az/
CATEGORIES:Private Event
END:VEVENT
BEGIN:VEVENT
DTSTART;TZID=America/Phoenix:20210411T190000
DTEND;TZID=America/Phoenix:20210411T190000
DTSTAMP:20260425T093640
CREATED:20210308T012307Z
LAST-MODIFIED:20210308T012307Z
UID:5534-1618167600-1618167600@timbatemanentertainment.com
SUMMARY:Rick Bronson's House of Comedy - Phoenix AZ
DESCRIPTION:
URL:https://timbatemanentertainment.com/event/rick-bronsons-house-of-comedy-phoenix-az-4/
CATEGORIES:Comedy Show
END:VEVENT
BEGIN:VEVENT
DTSTART;TZID=America/Phoenix:20210410T190000
DTEND;TZID=America/Phoenix:20210410T213000
DTSTAMP:20260425T093640
CREATED:20210331T173211Z
LAST-MODIFIED:20210331T173211Z
UID:5544-1618081200-1618090200@timbatemanentertainment.com
SUMMARY:Rick Bronson's House of Comedy\, Phoenix AZ
DESCRIPTION:
URL:https://timbatemanentertainment.com/event/rick-bronsons-house-of-comedy-phoenix-az-3/
CATEGORIES:Comedy Show
END:VEVENT
BEGIN:VEVENT
DTSTART;TZID=America/Phoenix:20210409T193000
DTEND;TZID=America/Phoenix:20210409T214500
DTSTAMP:20260425T093640
CREATED:20210308T012007Z
LAST-MODIFIED:20210308T012007Z
UID:5530-1617996600-1618004700@timbatemanentertainment.com
SUMMARY:Rick Bronson's House of Comedy - Phoenix AZ
DESCRIPTION:
URL:https://timbatemanentertainment.com/event/rick-bronsons-house-of-comedy-phoenix-az-2/
CATEGORIES:Comedy Show
END:VEVENT
BEGIN:VEVENT
DTSTART;TZID=America/Phoenix:20210408T193000
DTEND;TZID=America/Phoenix:20210408T193000
DTSTAMP:20260425T093640
CREATED:20210308T011758Z
LAST-MODIFIED:20210308T011758Z
UID:5528-1617910200-1617910200@timbatemanentertainment.com
SUMMARY:Rick Bronson's House of Comedy - Phoenix AZ
DESCRIPTION:
URL:https://timbatemanentertainment.com/event/rick-bronsons-house-of-comedy-phoenix-az/
CATEGORIES:Comedy Show
END:VEVENT
BEGIN:VEVENT
DTSTART;TZID=America/Phoenix:20210326T130000
DTEND;TZID=America/Phoenix:20210326T130000
DTSTAMP:20260425T093640
CREATED:20210222T163738Z
LAST-MODIFIED:20210222T163738Z
UID:5519-1616763600-1616763600@timbatemanentertainment.com
SUMMARY:Private Event - Ranch Estates\, Scottsdale AZ
DESCRIPTION:
URL:https://timbatemanentertainment.com/event/private-event-ranch-estates-scottsdale-az/
CATEGORIES:Private Event
END:VEVENT
BEGIN:VEVENT
DTSTART;TZID=America/Phoenix:20210324T150000
DTEND;TZID=America/Phoenix:20210324T150000
DTSTAMP:20260425T093640
CREATED:20210226T220539Z
LAST-MODIFIED:20210226T220539Z
UID:5521-1616598000-1616598000@timbatemanentertainment.com
SUMMARY:Private Show - Andara Senior Living\, Scottsdale AZ
DESCRIPTION:
URL:https://timbatemanentertainment.com/event/private-show-andara-senior-living-scottsdale-az/
CATEGORIES:Private Event
END:VEVENT
BEGIN:VEVENT
DTSTART;TZID=America/Phoenix:20210317T140000
DTEND;TZID=America/Phoenix:20210317T140000
DTSTAMP:20260425T093640
CREATED:20210112T180527Z
LAST-MODIFIED:20210112T180527Z
UID:5506-1615989600-1615989600@timbatemanentertainment.com
SUMMARY:Private Event - Pacifica Senior Living - Phoenix AZ
DESCRIPTION:
URL:https://timbatemanentertainment.com/event/private-event-pacifica-senior-living-phoenix-az/
CATEGORIES:Private Event
END:VEVENT
BEGIN:VEVENT
DTSTART;TZID=America/Phoenix:20210310T153000
DTEND;TZID=America/Phoenix:20210310T180000
DTSTAMP:20260425T093640
CREATED:20210121T165437Z
LAST-MODIFIED:20210121T165437Z
UID:5511-1615390200-1615399200@timbatemanentertainment.com
SUMMARY:Private Show - Quail Creek\, Green Valley AZ
DESCRIPTION:
URL:https://timbatemanentertainment.com/event/private-show-quail-creek-green-valley-az/
CATEGORIES:Private Event
END:VEVENT
BEGIN:VEVENT
DTSTART;TZID=America/Phoenix:20210306T190000
DTEND;TZID=America/Phoenix:20210306T213000
DTSTAMP:20260425T093640
CREATED:20210104T175647Z
LAST-MODIFIED:20210104T175647Z
UID:5499-1615057200-1615066200@timbatemanentertainment.com
SUMMARY:Stir Crazy Comedy Club - Glendale AZ
DESCRIPTION:
URL:https://timbatemanentertainment.com/event/stir-crazy-comedy-club-glendale-az-16/
CATEGORIES:Comedy Show
END:VEVENT
BEGIN:VEVENT
DTSTART;TZID=America/Phoenix:20210305T190000
DTEND;TZID=America/Phoenix:20210305T190000
DTSTAMP:20260425T093640
CREATED:20210104T175538Z
LAST-MODIFIED:20210104T175538Z
UID:5497-1614970800-1614970800@timbatemanentertainment.com
SUMMARY:Stir Crazy Comedy Club - Glendale AZ
DESCRIPTION:
URL:https://timbatemanentertainment.com/event/stir-crazy-comedy-club-glendale-az-15/
CATEGORIES:Comedy Show
END:VEVENT
END:VCALENDAR