BEGIN:VCALENDAR
VERSION:2.0
PRODID:-//Tim Bateman Entertainment - ECPv6.15.20//NONSGML v1.0//EN
CALSCALE:GREGORIAN
METHOD:PUBLISH
X-WR-CALNAME:Tim Bateman Entertainment
X-ORIGINAL-URL:https://timbatemanentertainment.com
X-WR-CALDESC:Events for Tim Bateman Entertainment
REFRESH-INTERVAL;VALUE=DURATION:PT1H
X-Robots-Tag:noindex
X-PUBLISHED-TTL:PT1H
BEGIN:VTIMEZONE
TZID:America/Phoenix
BEGIN:STANDARD
TZOFFSETFROM:-0700
TZOFFSETTO:-0700
TZNAME:MST
DTSTART:20170101T000000
END:STANDARD
END:VTIMEZONE
BEGIN:VEVENT
DTSTART;TZID=America/Phoenix:20180714T190000
DTEND;TZID=America/Phoenix:20180714T213000
DTSTAMP:20260425T173620
CREATED:20180421T232018Z
LAST-MODIFIED:20180421T232018Z
UID:4701-1531594800-1531603800@timbatemanentertainment.com
SUMMARY:Stir Crazy Comedy Club - Glendale\, AZ
DESCRIPTION:
URL:https://timbatemanentertainment.com/event/stir-crazy-comedy-club-glendale-az-3/
CATEGORIES:Comedy Show
END:VEVENT
BEGIN:VEVENT
DTSTART;TZID=America/Phoenix:20180713T190000
DTEND;TZID=America/Phoenix:20180713T213000
DTSTAMP:20260425T173620
CREATED:20180421T231924Z
LAST-MODIFIED:20180421T231924Z
UID:4699-1531508400-1531517400@timbatemanentertainment.com
SUMMARY:Stir Crazy Comedy Club - Glendale\, AZ
DESCRIPTION:
URL:https://timbatemanentertainment.com/event/stir-crazy-comedy-club-glendale-az-2/
CATEGORIES:Comedy Show
END:VEVENT
BEGIN:VEVENT
DTSTART;TZID=America/Phoenix:20180712T190000
DTEND;TZID=America/Phoenix:20180712T190000
DTSTAMP:20260425T173620
CREATED:20180421T231817Z
LAST-MODIFIED:20180421T231817Z
UID:4697-1531422000-1531422000@timbatemanentertainment.com
SUMMARY:Stir Crazy Comedy Club - Glendale\, AZ
DESCRIPTION:
URL:https://timbatemanentertainment.com/event/stir-crazy-comedy-club-glendale-az/
CATEGORIES:Comedy Show
END:VEVENT
BEGIN:VEVENT
DTSTART;TZID=America/Phoenix:20180620T000000
DTEND;TZID=America/Phoenix:20180710T000000
DTSTAMP:20260425T173620
CREATED:20180408T160917Z
LAST-MODIFIED:20180408T160917Z
UID:4688-1529452800-1531180800@timbatemanentertainment.com
SUMMARY:Sydney\, Australia - TBA
DESCRIPTION:
URL:https://timbatemanentertainment.com/event/sydney-australia-tba/
CATEGORIES:Comedy Show
END:VEVENT
BEGIN:VEVENT
DTSTART;TZID=America/Phoenix:20180529T200000
DTEND;TZID=America/Phoenix:20180529T200000
DTSTAMP:20260425T173620
CREATED:20180417T150810Z
LAST-MODIFIED:20180417T150810Z
UID:4695-1527624000-1527624000@timbatemanentertainment.com
SUMMARY:Bridgett's Last Laugh - Phoenix\, AZ
DESCRIPTION:
URL:https://timbatemanentertainment.com/event/bridgetts-last-laugh-phoenix-az/
CATEGORIES:Comedy Show
END:VEVENT
BEGIN:VEVENT
DTSTART;TZID=America/Phoenix:20180518T190000
DTEND;TZID=America/Phoenix:20180518T190000
DTSTAMP:20260425T173620
CREATED:20180413T003421Z
LAST-MODIFIED:20180413T003421Z
UID:4692-1526670000-1526670000@timbatemanentertainment.com
SUMMARY:Down Town Wines\, Chandler AZ
DESCRIPTION:
URL:https://timbatemanentertainment.com/event/down-town-wines-chandler-az/
CATEGORIES:Comedy Show
END:VEVENT
BEGIN:VEVENT
DTSTART;TZID=America/Phoenix:20180518T150000
DTEND;TZID=America/Phoenix:20180518T150000
DTSTAMP:20260425T173620
CREATED:20180514T225627Z
LAST-MODIFIED:20180514T225627Z
UID:4710-1526655600-1526655600@timbatemanentertainment.com
SUMMARY:Private Event - Bridgewater Senior Community - Phoenix\, AZ
DESCRIPTION:
URL:https://timbatemanentertainment.com/event/private-event-bridgewater-senior-community-phoenix-az/
CATEGORIES:Private Event
END:VEVENT
BEGIN:VEVENT
DTSTART;TZID=America/Phoenix:20180511T213000
DTEND;TZID=America/Phoenix:20180511T213000
DTSTAMP:20260425T173620
CREATED:20180428T221336Z
LAST-MODIFIED:20180428T221336Z
UID:4704-1526074200-1526074200@timbatemanentertainment.com
SUMMARY:Private Event - Unexpected Art Gallery - Phoenix\, AZ
DESCRIPTION:
URL:https://timbatemanentertainment.com/event/private-event-phoenix-az-2/
CATEGORIES:Private Event
END:VEVENT
BEGIN:VEVENT
DTSTART;VALUE=DATE:20180505
DTEND;VALUE=DATE:20180506
DTSTAMP:20260425T173620
CREATED:20170829T162139Z
LAST-MODIFIED:20170829T162139Z
UID:5041-1525478400-1525564799@timbatemanentertainment.com
SUMMARY:Laff's Comedy Cafe\, Tucson\, AZ - 8.00pm & 10.30pm
DESCRIPTION:
URL:https://timbatemanentertainment.com/event/laffs-comedy-cafe-tucson-az-8-00pm-10-30pm-2-2/
CATEGORIES:Comedy Show
END:VEVENT
BEGIN:VEVENT
DTSTART;VALUE=DATE:20180505
DTEND;VALUE=DATE:20180506
DTSTAMP:20260425T173620
CREATED:20170829T162139Z
LAST-MODIFIED:20170829T162139Z
UID:4463-1525478400-1525564799@timbatemanentertainment.com
SUMMARY:Laff's Comedy Cafe\, Tucson\, AZ - 8.00pm & 10.30pm
DESCRIPTION:
URL:https://timbatemanentertainment.com/event/laffs-comedy-cafe-tucson-az-8-00pm-10-30pm-2/
CATEGORIES:Comedy Show
END:VEVENT
BEGIN:VEVENT
DTSTART;VALUE=DATE:20180504
DTEND;VALUE=DATE:20180505
DTSTAMP:20260425T173620
CREATED:20170829T162058Z
LAST-MODIFIED:20170829T162058Z
UID:5040-1525392000-1525478399@timbatemanentertainment.com
SUMMARY:Laff's Comedy Cafe\, Tucson\, AZ - 8.00pm & 10.30pm
DESCRIPTION:
URL:https://timbatemanentertainment.com/event/laffs-comedy-cafe-tucson-az-8-00pm-10-30pm-3/
CATEGORIES:Comedy Show
END:VEVENT
BEGIN:VEVENT
DTSTART;VALUE=DATE:20180504
DTEND;VALUE=DATE:20180505
DTSTAMP:20260425T173620
CREATED:20170829T162058Z
LAST-MODIFIED:20170829T162058Z
UID:4461-1525392000-1525478399@timbatemanentertainment.com
SUMMARY:Laff's Comedy Cafe\, Tucson\, AZ - 8.00pm & 10.30pm
DESCRIPTION:
URL:https://timbatemanentertainment.com/event/laffs-comedy-cafe-tucson-az-8-00pm-10-30pm/
CATEGORIES:Comedy Show
END:VEVENT
BEGIN:VEVENT
DTSTART;TZID=America/Phoenix:20180502T200000
DTEND;TZID=America/Phoenix:20180502T200000
DTSTAMP:20260425T173620
CREATED:20180501T193919Z
LAST-MODIFIED:20180501T193919Z
UID:4706-1525291200-1525291200@timbatemanentertainment.com
SUMMARY:Private Event - Tempe Improv - Tempe\, AZ.
DESCRIPTION:
URL:https://timbatemanentertainment.com/event/private-event-tempe-improv-tempe-az/
CATEGORIES:Private Event
END:VEVENT
BEGIN:VEVENT
DTSTART;TZID=America/Phoenix:20180419T190000
DTEND;TZID=America/Phoenix:20180419T190000
DTSTAMP:20260425T173620
CREATED:20180321T152838Z
LAST-MODIFIED:20180321T152838Z
UID:4673-1524164400-1524164400@timbatemanentertainment.com
SUMMARY:Private Event\, Phoenix AZ
DESCRIPTION:
URL:https://timbatemanentertainment.com/event/private-event-phoenix-az/
CATEGORIES:Private Event
END:VEVENT
BEGIN:VEVENT
DTSTART;TZID=America/Phoenix:20180418T200000
DTEND;TZID=America/Phoenix:20180418T200000
DTSTAMP:20260425T173620
CREATED:20180330T193022Z
LAST-MODIFIED:20180330T193022Z
UID:4676-1524081600-1524081600@timbatemanentertainment.com
SUMMARY:The Lounge\, Phoenix AZ
DESCRIPTION:
URL:https://timbatemanentertainment.com/event/the-lounge-phoenix-az-3/
CATEGORIES:Comedy Show
END:VEVENT
BEGIN:VEVENT
DTSTART;TZID=America/Phoenix:20180412T200000
DTEND;TZID=America/Phoenix:20180412T200000
DTSTAMP:20260425T173620
CREATED:20180410T204133Z
LAST-MODIFIED:20180410T204133Z
UID:4690-1523563200-1523563200@timbatemanentertainment.com
SUMMARY:Tempe Improv with "Jimmy JJ Walker" - Tempe\, AZ
DESCRIPTION:
URL:https://timbatemanentertainment.com/event/tempe-improv-with-jimmy-jj-walker-tempe-az/
CATEGORIES:Comedy Show
END:VEVENT
BEGIN:VEVENT
DTSTART;TZID=America/Phoenix:20180331T190000
DTEND;TZID=America/Phoenix:20180331T213000
DTSTAMP:20260425T173620
CREATED:20180121T071036Z
LAST-MODIFIED:20180121T071036Z
UID:4602-1522522800-1522531800@timbatemanentertainment.com
SUMMARY:House of Comedy\, Phoenix\, AZ
DESCRIPTION:
URL:https://timbatemanentertainment.com/event/house-of-comedy-phoenix-az-5/
CATEGORIES:Comedy Show
END:VEVENT
BEGIN:VEVENT
DTSTART;TZID=America/Phoenix:20180331T190000
DTEND;TZID=America/Phoenix:20180331T213000
DTSTAMP:20260425T173620
CREATED:20180121T071036Z
LAST-MODIFIED:20180121T071036Z
UID:5073-1522522800-1522531800@timbatemanentertainment.com
SUMMARY:House of Comedy\, Phoenix\, AZ
DESCRIPTION:
URL:https://timbatemanentertainment.com/event/house-of-comedy-phoenix-az-5-2/
CATEGORIES:Comedy Show
END:VEVENT
BEGIN:VEVENT
DTSTART;TZID=America/Phoenix:20180330T193000
DTEND;TZID=America/Phoenix:20180330T214500
DTSTAMP:20260425T173620
CREATED:20180121T070819Z
LAST-MODIFIED:20180121T070819Z
UID:4600-1522438200-1522446300@timbatemanentertainment.com
SUMMARY:House of Comedy\, Phoenix\, AZ
DESCRIPTION:
URL:https://timbatemanentertainment.com/event/house-of-comedy-phoenix-az-4/
CATEGORIES:Comedy Show
END:VEVENT
BEGIN:VEVENT
DTSTART;TZID=America/Phoenix:20180330T193000
DTEND;TZID=America/Phoenix:20180330T214500
DTSTAMP:20260425T173620
CREATED:20180121T070819Z
LAST-MODIFIED:20180121T070819Z
UID:5072-1522438200-1522446300@timbatemanentertainment.com
SUMMARY:House of Comedy\, Phoenix\, AZ
DESCRIPTION:
URL:https://timbatemanentertainment.com/event/house-of-comedy-phoenix-az-4-2/
CATEGORIES:Comedy Show
END:VEVENT
BEGIN:VEVENT
DTSTART;TZID=America/Phoenix:20180329T193000
DTEND;TZID=America/Phoenix:20180329T193000
DTSTAMP:20260425T173620
CREATED:20180121T070652Z
LAST-MODIFIED:20180121T070652Z
UID:5071-1522351800-1522351800@timbatemanentertainment.com
SUMMARY:House of Comedy\, Phoenix\, AZ
DESCRIPTION:
URL:https://timbatemanentertainment.com/event/house-of-comedy-phoenix-az-3-2/
CATEGORIES:Comedy Show
END:VEVENT
BEGIN:VEVENT
DTSTART;TZID=America/Phoenix:20180329T193000
DTEND;TZID=America/Phoenix:20180329T193000
DTSTAMP:20260425T173620
CREATED:20180121T070652Z
LAST-MODIFIED:20180121T070652Z
UID:4598-1522351800-1522351800@timbatemanentertainment.com
SUMMARY:House of Comedy\, Phoenix\, AZ
DESCRIPTION:
URL:https://timbatemanentertainment.com/event/house-of-comedy-phoenix-az-3/
CATEGORIES:Comedy Show
END:VEVENT
BEGIN:VEVENT
DTSTART;TZID=America/Phoenix:20180328T210000
DTEND;TZID=America/Phoenix:20180328T210000
DTSTAMP:20260425T173620
CREATED:20180302T211124Z
LAST-MODIFIED:20180302T211124Z
UID:5085-1522270800-1522270800@timbatemanentertainment.com
SUMMARY:Private Event - Western Kierland Resort\, Scottsdale\, AZ
DESCRIPTION:
URL:https://timbatemanentertainment.com/event/private-event-western-kierland-resort-scottsdale-az-2/
CATEGORIES:Private Event
END:VEVENT
BEGIN:VEVENT
DTSTART;TZID=America/Phoenix:20180328T210000
DTEND;TZID=America/Phoenix:20180328T210000
DTSTAMP:20260425T173620
CREATED:20180302T211124Z
LAST-MODIFIED:20180302T211124Z
UID:4648-1522270800-1522270800@timbatemanentertainment.com
SUMMARY:Private Event - Western Kierland Resort\, Scottsdale\, AZ
DESCRIPTION:
URL:https://timbatemanentertainment.com/event/private-event-western-kierland-resort-scottsdale-az/
CATEGORIES:Private Event
END:VEVENT
BEGIN:VEVENT
DTSTART;TZID=America/Phoenix:20180328T193000
DTEND;TZID=America/Phoenix:20180328T193000
DTSTAMP:20260425T173620
CREATED:20180121T070542Z
LAST-MODIFIED:20180121T070542Z
UID:4596-1522265400-1522265400@timbatemanentertainment.com
SUMMARY:House of Comedy\, Phoenix\, AZ
DESCRIPTION:
URL:https://timbatemanentertainment.com/event/house-of-comedy-phoenix-az-2/
CATEGORIES:Comedy Show
END:VEVENT
BEGIN:VEVENT
DTSTART;TZID=America/Phoenix:20180328T193000
DTEND;TZID=America/Phoenix:20180328T193000
DTSTAMP:20260425T173620
CREATED:20180121T070542Z
LAST-MODIFIED:20180121T070542Z
UID:5070-1522265400-1522265400@timbatemanentertainment.com
SUMMARY:House of Comedy\, Phoenix\, AZ
DESCRIPTION:
URL:https://timbatemanentertainment.com/event/house-of-comedy-phoenix-az-2-2/
CATEGORIES:Comedy Show
END:VEVENT
BEGIN:VEVENT
DTSTART;TZID=America/Phoenix:20180327T200000
DTEND;TZID=America/Phoenix:20180327T200000
DTSTAMP:20260425T173620
CREATED:20180210T212715Z
LAST-MODIFIED:20180210T212715Z
UID:4624-1522180800-1522180800@timbatemanentertainment.com
SUMMARY:Bridgett's\, Phoenix\, AZ
DESCRIPTION:
URL:https://timbatemanentertainment.com/event/bridgetts-phoenix-az-2/
CATEGORIES:Comedy Show
END:VEVENT
BEGIN:VEVENT
DTSTART;TZID=America/Phoenix:20180327T200000
DTEND;TZID=America/Phoenix:20180327T200000
DTSTAMP:20260425T173620
CREATED:20180210T212715Z
LAST-MODIFIED:20180210T212715Z
UID:5077-1522180800-1522180800@timbatemanentertainment.com
SUMMARY:Bridgett's\, Phoenix\, AZ
DESCRIPTION:
URL:https://timbatemanentertainment.com/event/bridgetts-phoenix-az-2-2/
CATEGORIES:Comedy Show
END:VEVENT
BEGIN:VEVENT
DTSTART;TZID=America/Phoenix:20180326T180000
DTEND;TZID=America/Phoenix:20180326T180000
DTSTAMP:20260425T173620
CREATED:20180228T220429Z
LAST-MODIFIED:20180228T220429Z
UID:4641-1522087200-1522087200@timbatemanentertainment.com
SUMMARY:Private Event - Sun City West\, Surprise\, AZ
DESCRIPTION:
URL:https://timbatemanentertainment.com/event/private-event-sun-city-west-surprise-az-3/
CATEGORIES:Private Event
END:VEVENT
BEGIN:VEVENT
DTSTART;TZID=America/Phoenix:20180326T180000
DTEND;TZID=America/Phoenix:20180326T180000
DTSTAMP:20260425T173620
CREATED:20180228T220429Z
LAST-MODIFIED:20180228T220429Z
UID:5083-1522087200-1522087200@timbatemanentertainment.com
SUMMARY:Private Event - Sun City West\, Surprise\, AZ
DESCRIPTION:
URL:https://timbatemanentertainment.com/event/private-event-sun-city-west-surprise-az-3-2/
CATEGORIES:Private Event
END:VEVENT
END:VCALENDAR