BEGIN:VCALENDAR
VERSION:2.0
PRODID:-//Tim Bateman Entertainment - ECPv6.15.20//NONSGML v1.0//EN
CALSCALE:GREGORIAN
METHOD:PUBLISH
X-WR-CALNAME:Tim Bateman Entertainment
X-ORIGINAL-URL:https://timbatemanentertainment.com
X-WR-CALDESC:Events for Tim Bateman Entertainment
REFRESH-INTERVAL;VALUE=DURATION:PT1H
X-Robots-Tag:noindex
X-PUBLISHED-TTL:PT1H
BEGIN:VTIMEZONE
TZID:America/Phoenix
BEGIN:STANDARD
TZOFFSETFROM:-0700
TZOFFSETTO:-0700
TZNAME:MST
DTSTART:20170101T000000
END:STANDARD
END:VTIMEZONE
BEGIN:VEVENT
DTSTART;TZID=America/Phoenix:20191214T210000
DTEND;TZID=America/Phoenix:20191214T210000
DTSTAMP:20260425T195811
CREATED:20191014T042606Z
LAST-MODIFIED:20191014T042606Z
UID:5355-1576357200-1576357200@timbatemanentertainment.com
SUMMARY:Private Event - 60th Birthday Celebration\, Scottsdale AZ
DESCRIPTION:
URL:https://timbatemanentertainment.com/event/private-event-60th-birthday-celebration-scottsdale-az/
CATEGORIES:Private Event
END:VEVENT
BEGIN:VEVENT
DTSTART;TZID=America/Phoenix:20191214T190000
DTEND;TZID=America/Phoenix:20191214T190000
DTSTAMP:20260425T195811
CREATED:20191206T143236Z
LAST-MODIFIED:20191206T143236Z
UID:5387-1576350000-1576350000@timbatemanentertainment.com
SUMMARY:Private Event - Xmas Party\, Peoria AZ
DESCRIPTION:
URL:https://timbatemanentertainment.com/event/private-event-xmas-party-peoria-az/
CATEGORIES:Private Event
END:VEVENT
BEGIN:VEVENT
DTSTART;TZID=America/Phoenix:20191213T190000
DTEND;TZID=America/Phoenix:20191213T190000
DTSTAMP:20260425T195811
CREATED:20191014T172616Z
LAST-MODIFIED:20191014T172616Z
UID:5358-1576263600-1576263600@timbatemanentertainment.com
SUMMARY:Private Event - Vineyard Community Church\, Gilbert AZ
DESCRIPTION:
URL:https://timbatemanentertainment.com/event/private-event-vineyard-community-church-gilbert-az/
CATEGORIES:Private Event
END:VEVENT
BEGIN:VEVENT
DTSTART;TZID=America/Phoenix:20191207T203000
DTEND;TZID=America/Phoenix:20191207T203000
DTSTAMP:20260425T195811
CREATED:20190910T220833Z
LAST-MODIFIED:20190910T220833Z
UID:5273-1575750600-1575750600@timbatemanentertainment.com
SUMMARY:Private Event - JW Marriot Scottsdale Camelback\, Scottsdale AZ
DESCRIPTION:
URL:https://timbatemanentertainment.com/event/private-event-jw-marriot-scottsdale-camelback-scottsdale-az/
CATEGORIES:Private Event
END:VEVENT
BEGIN:VEVENT
DTSTART;TZID=America/Phoenix:20191123T190000
DTEND;TZID=America/Phoenix:20191123T213000
DTSTAMP:20260425T195811
CREATED:20190910T220649Z
LAST-MODIFIED:20190910T220649Z
UID:5271-1574535600-1574544600@timbatemanentertainment.com
SUMMARY:Stir Crazy Comedy Club\, Glendale AZ
DESCRIPTION:
URL:https://timbatemanentertainment.com/event/stir-crazy-comedy-club-glendale-az-8/
CATEGORIES:Comedy Show
END:VEVENT
BEGIN:VEVENT
DTSTART;TZID=America/Phoenix:20191122T190000
DTEND;TZID=America/Phoenix:20191122T213000
DTSTAMP:20260425T195811
CREATED:20190910T220531Z
LAST-MODIFIED:20190910T220531Z
UID:5269-1574449200-1574458200@timbatemanentertainment.com
SUMMARY:Stir Crazy Comedy Club\, Glendale AZ
DESCRIPTION:
URL:https://timbatemanentertainment.com/event/stir-crazy-comedy-club-glendale-az-7/
CATEGORIES:Comedy Show
END:VEVENT
BEGIN:VEVENT
DTSTART;TZID=America/Phoenix:20191121T190000
DTEND;TZID=America/Phoenix:20191121T190000
DTSTAMP:20260425T195811
CREATED:20190910T220229Z
LAST-MODIFIED:20190910T220418Z
UID:5266-1574362800-1574362800@timbatemanentertainment.com
SUMMARY:Stir Crazy Comedy Club\, Glendale AZ
DESCRIPTION:
URL:https://timbatemanentertainment.com/event/stir-crazy-club-glendale-az/
CATEGORIES:Comedy Show
END:VEVENT
BEGIN:VEVENT
DTSTART;TZID=America/Phoenix:20191109T190000
DTEND;TZID=America/Phoenix:20191109T190000
DTSTAMP:20260425T195811
CREATED:20190910T215756Z
LAST-MODIFIED:20190910T215756Z
UID:5263-1573326000-1573326000@timbatemanentertainment.com
SUMMARY:Private Event - Sea of Glass Center for the Arts - Tucson\, AZ
DESCRIPTION:
URL:https://timbatemanentertainment.com/event/private-event-sea-of-glass-center-for-the-arts-tucson-az/
CATEGORIES:Private Event
END:VEVENT
BEGIN:VEVENT
DTSTART;TZID=America/Phoenix:20191104T183000
DTEND;TZID=America/Phoenix:20191104T183000
DTSTAMP:20260425T195811
CREATED:20191015T045236Z
LAST-MODIFIED:20191015T045236Z
UID:5360-1572892200-1572892200@timbatemanentertainment.com
SUMMARY:Private Event - Leisure World\, Mesa AZ
DESCRIPTION:
URL:https://timbatemanentertainment.com/event/private-event-leisure-world-mesa-az/
CATEGORIES:Private Event
END:VEVENT
BEGIN:VEVENT
DTSTART;TZID=America/Phoenix:20191027T190000
DTEND;TZID=America/Phoenix:20191027T190000
DTSTAMP:20260425T195811
CREATED:20190924T222525Z
LAST-MODIFIED:20190924T222525Z
UID:5337-1572202800-1572202800@timbatemanentertainment.com
SUMMARY:Stir Crazy Comedy Club\, Glendale AZ
DESCRIPTION:
URL:https://timbatemanentertainment.com/event/stir-crazy-comedy-club-glendale-az-4/
CATEGORIES:Comedy Show
END:VEVENT
BEGIN:VEVENT
DTSTART;TZID=America/Phoenix:20191024T180000
DTEND;TZID=America/Phoenix:20191024T180000
DTSTAMP:20260425T195811
CREATED:20191017T011039Z
LAST-MODIFIED:20191018T172007Z
UID:5362-1571940000-1571940000@timbatemanentertainment.com
SUMMARY:Private Event - The Yard\, Tempe AZ
DESCRIPTION:
URL:https://timbatemanentertainment.com/event/private-event-guild-mortgage-tempe-az/
CATEGORIES:Private Event
END:VEVENT
BEGIN:VEVENT
DTSTART;TZID=America/Phoenix:20191018T190000
DTEND;TZID=America/Phoenix:20191018T210000
DTSTAMP:20260425T195811
CREATED:20190910T214552Z
LAST-MODIFIED:20190910T214552Z
UID:5260-1571425200-1571432400@timbatemanentertainment.com
SUMMARY:The Forum Coworking Event\, Chandler AZ
DESCRIPTION:
URL:https://timbatemanentertainment.com/event/the-forum-coworking-event-chandler-az/
CATEGORIES:Comedy Show
END:VEVENT
BEGIN:VEVENT
DTSTART;TZID=America/Phoenix:20191008T133000
DTEND;TZID=America/Phoenix:20191008T133000
DTSTAMP:20260425T195811
CREATED:20191003T223938Z
LAST-MODIFIED:20191003T223938Z
UID:5352-1570541400-1570541400@timbatemanentertainment.com
SUMMARY:Private Event - Gospel Rescue Mission\, Tucson AZ
DESCRIPTION:
URL:https://timbatemanentertainment.com/event/private-event-gospel-rescue-mission-tucson-az/
CATEGORIES:Private Event
END:VEVENT
BEGIN:VEVENT
DTSTART;TZID=America/Phoenix:20190928T170000
DTEND;TZID=America/Phoenix:20190928T170000
DTSTAMP:20260425T195811
CREATED:20190913T210701Z
LAST-MODIFIED:20190913T210701Z
UID:5301-1569690000-1569690000@timbatemanentertainment.com
SUMMARY:Private Event - Sonoran Flats\, Phoenix AZ
DESCRIPTION:
URL:https://timbatemanentertainment.com/event/private-event-sonoran-flats-phoenix-az/
CATEGORIES:Private Event
END:VEVENT
BEGIN:VEVENT
DTSTART;TZID=America/Phoenix:20181215T200000
DTEND;TZID=America/Phoenix:20181215T200000
DTSTAMP:20260425T195811
CREATED:20180901T155454Z
LAST-MODIFIED:20180901T155454Z
UID:4769-1544904000-1544904000@timbatemanentertainment.com
SUMMARY:Private Event - Phoenix Country Club\, Phoenix AZ
DESCRIPTION:
URL:https://timbatemanentertainment.com/event/private-event-phoenix-country-club-phoenix-az/
CATEGORIES:Private Event
END:VEVENT
BEGIN:VEVENT
DTSTART;TZID=America/Phoenix:20181201T200000
DTEND;TZID=America/Phoenix:20181201T200000
DTSTAMP:20260425T195811
CREATED:20180820T224315Z
LAST-MODIFIED:20180820T224315Z
UID:4752-1543694400-1543694400@timbatemanentertainment.com
SUMMARY:Private Event - Kimpton Hotel Palomar\, Phoenix AZ
DESCRIPTION:
URL:https://timbatemanentertainment.com/event/private-event-christmas-party-tba-phoenix-az/
CATEGORIES:Private Event
END:VEVENT
BEGIN:VEVENT
DTSTART;TZID=America/Phoenix:20181029T190000
DTEND;TZID=America/Phoenix:20181029T190000
DTSTAMP:20260425T195811
CREATED:20180815T004151Z
LAST-MODIFIED:20180815T004151Z
UID:4746-1540839600-1540839600@timbatemanentertainment.com
SUMMARY:Hon-Dah Casino\, Pinetop AZ
DESCRIPTION:
URL:https://timbatemanentertainment.com/event/hon-dah-casino-pinetop-az/
CATEGORIES:Comedy Show
END:VEVENT
BEGIN:VEVENT
DTSTART;TZID=America/Phoenix:20181020T190000
DTEND;TZID=America/Phoenix:20181020T190000
DTSTAMP:20260425T195811
CREATED:20180716T203904Z
LAST-MODIFIED:20180716T203904Z
UID:4725-1540062000-1540062000@timbatemanentertainment.com
SUMMARY:Private Event - Sun Lakes Country Club\, Chandler AZ
DESCRIPTION:
URL:https://timbatemanentertainment.com/event/private-event-sun-lakes-chandler-az/
CATEGORIES:Private Event
END:VEVENT
BEGIN:VEVENT
DTSTART;TZID=America/Phoenix:20181017T200000
DTEND;TZID=America/Phoenix:20181017T200000
DTSTAMP:20260425T195811
CREATED:20180914T213315Z
LAST-MODIFIED:20180914T213315Z
UID:4780-1539806400-1539806400@timbatemanentertainment.com
SUMMARY:Private Event - Summit Group Software - Mancuso's\, Phoenix AZ
DESCRIPTION:
URL:https://timbatemanentertainment.com/event/private-event-summit-group-software-mancusos-phoenix-az/
CATEGORIES:Private Event
END:VEVENT
BEGIN:VEVENT
DTSTART;TZID=America/Phoenix:20181016T213000
DTEND;TZID=America/Phoenix:20181016T213000
DTSTAMP:20260425T195811
CREATED:20180914T213007Z
LAST-MODIFIED:20180914T213007Z
UID:4778-1539725400-1539725400@timbatemanentertainment.com
SUMMARY:Private Event - NACE - Phoenix Art Museum\, Phoenix AZ
DESCRIPTION:
URL:https://timbatemanentertainment.com/event/private-event-nace-phoenix-art-museum-phoenix-az/
CATEGORIES:Private Event
END:VEVENT
BEGIN:VEVENT
DTSTART;TZID=America/Phoenix:20181012T193000
DTEND;TZID=America/Phoenix:20181012T193000
DTSTAMP:20260425T195811
CREATED:20180729T152622Z
LAST-MODIFIED:20180729T152622Z
UID:4743-1539372600-1539372600@timbatemanentertainment.com
SUMMARY:Marana Laughs\, Marana AZ
DESCRIPTION:
URL:https://timbatemanentertainment.com/event/marana-laughs-marana-az/
CATEGORIES:Comedy Show
END:VEVENT
BEGIN:VEVENT
DTSTART;TZID=America/Phoenix:20181005T193000
DTEND;TZID=America/Phoenix:20181005T193000
DTSTAMP:20260425T195811
CREATED:20180729T152246Z
LAST-MODIFIED:20180729T152246Z
UID:4739-1538767800-1538767800@timbatemanentertainment.com
SUMMARY:Vail Laughs\, Tucson AZ
DESCRIPTION:
URL:https://timbatemanentertainment.com/event/vail-laughs-tucson-az/
CATEGORIES:Comedy Show
END:VEVENT
BEGIN:VEVENT
DTSTART;TZID=America/Phoenix:20181002T190000
DTEND;TZID=America/Phoenix:20181002T190000
DTSTAMP:20260425T195811
CREATED:20180603T171034Z
LAST-MODIFIED:20180603T171034Z
UID:4717-1538506800-1538506800@timbatemanentertainment.com
SUMMARY:House of Comedy\, Phoenix AZ
DESCRIPTION:
URL:https://timbatemanentertainment.com/event/house-of-comedy-phoenix-az-6/
CATEGORIES:Comedy Show
END:VEVENT
BEGIN:VEVENT
DTSTART;TZID=America/Phoenix:20181001T193000
DTEND;TZID=America/Phoenix:20181001T193000
DTSTAMP:20260425T195811
CREATED:20180925T033917Z
LAST-MODIFIED:20180925T033917Z
UID:4785-1538422200-1538422200@timbatemanentertainment.com
SUMMARY:Private Event - Stand Up Live\, Phoenix AZ
DESCRIPTION:
URL:https://timbatemanentertainment.com/event/private-event-stand-up-live-phoenix-az-2/
CATEGORIES:Private Event
END:VEVENT
BEGIN:VEVENT
DTSTART;TZID=America/Phoenix:20180927T200000
DTEND;TZID=America/Phoenix:20180927T200000
DTSTAMP:20260425T195811
CREATED:20180925T033800Z
LAST-MODIFIED:20180925T033800Z
UID:4783-1538078400-1538078400@timbatemanentertainment.com
SUMMARY:"The Stand Outs" - Stand Up Live\, Phoenix AZ
DESCRIPTION:
URL:https://timbatemanentertainment.com/event/the-stand-outs-stand-up-live-phoenix-az/
CATEGORIES:Comedy Show
END:VEVENT
BEGIN:VEVENT
DTSTART;VALUE=DATE:20180922
DTEND;VALUE=DATE:20180923
DTSTAMP:20260425T195811
CREATED:20180603T170941Z
LAST-MODIFIED:20180603T170941Z
UID:4715-1537574400-1537660799@timbatemanentertainment.com
SUMMARY:Big Pine Comedy Festival\, Flagstaff AZ
DESCRIPTION:
URL:https://timbatemanentertainment.com/event/big-pine-comedy-festival-flagstaff-az-2/
CATEGORIES:Comedy Show
END:VEVENT
BEGIN:VEVENT
DTSTART;VALUE=DATE:20180921
DTEND;VALUE=DATE:20180922
DTSTAMP:20260425T195811
CREATED:20180603T170841Z
LAST-MODIFIED:20180603T170841Z
UID:4713-1537488000-1537574399@timbatemanentertainment.com
SUMMARY:Big Pine Comedy Festival\, Flagstaff AZ
DESCRIPTION:
URL:https://timbatemanentertainment.com/event/big-pine-comedy-festival-flagstaff-az/
CATEGORIES:Comedy Show
END:VEVENT
BEGIN:VEVENT
DTSTART;VALUE=DATE:20180920
DTEND;VALUE=DATE:20180921
DTSTAMP:20260425T195811
CREATED:20180716T213958Z
LAST-MODIFIED:20180716T213958Z
UID:4732-1537401600-1537487999@timbatemanentertainment.com
SUMMARY:Big Pine Comedy Festival\, Flagstaff AZ
DESCRIPTION:
URL:https://timbatemanentertainment.com/event/big-pine-comedy-festival-flagstaff-az-4/
CATEGORIES:Comedy Show
END:VEVENT
BEGIN:VEVENT
DTSTART;TZID=America/Phoenix:20180919T190000
DTEND;TZID=America/Phoenix:20180919T190000
DTSTAMP:20260425T195811
CREATED:20180725T223027Z
LAST-MODIFIED:20180725T223027Z
UID:4736-1537383600-1537383600@timbatemanentertainment.com
SUMMARY:TAD Comedy Showcase\, Sun Village\, Surprise AZ
DESCRIPTION:
URL:https://timbatemanentertainment.com/event/tad-comedy-showcase-peoria-az/
CATEGORIES:Private Event
END:VEVENT
BEGIN:VEVENT
DTSTART;VALUE=DATE:20180919
DTEND;VALUE=DATE:20180920
DTSTAMP:20260425T195811
CREATED:20180716T213841Z
LAST-MODIFIED:20180716T213841Z
UID:4730-1537315200-1537401599@timbatemanentertainment.com
SUMMARY:Big Pine Comedy Festival\, Flagstaff AZ
DESCRIPTION:
URL:https://timbatemanentertainment.com/event/big-pine-comedy-festival-flagstaff-az-3/
CATEGORIES:Comedy Show
END:VEVENT
END:VCALENDAR