BEGIN:VCALENDAR
VERSION:2.0
PRODID:-//Tim Bateman Entertainment - ECPv6.15.20//NONSGML v1.0//EN
CALSCALE:GREGORIAN
METHOD:PUBLISH
X-ORIGINAL-URL:https://timbatemanentertainment.com
X-WR-CALDESC:Events for Tim Bateman Entertainment
REFRESH-INTERVAL;VALUE=DURATION:PT1H
X-Robots-Tag:noindex
X-PUBLISHED-TTL:PT1H
BEGIN:VTIMEZONE
TZID:America/Phoenix
BEGIN:STANDARD
TZOFFSETFROM:-0700
TZOFFSETTO:-0700
TZNAME:MST
DTSTART:20190101T000000
END:STANDARD
END:VTIMEZONE
BEGIN:VEVENT
DTSTART;TZID=America/Phoenix:20210119T120000
DTEND;TZID=America/Phoenix:20210119T120000
DTSTAMP:20260425T045506
CREATED:20210112T180336Z
LAST-MODIFIED:20210112T180336Z
UID:5504-1611057600-1611057600@timbatemanentertainment.com
SUMMARY:Private Event - Mariposa Mesa - Mesa AZ
DESCRIPTION:
URL:https://timbatemanentertainment.com/event/private-event-mariposa-mesa-mesa-az-2/
CATEGORIES:Private Event
END:VEVENT
BEGIN:VEVENT
DTSTART;TZID=America/Phoenix:20201226T190000
DTEND;TZID=America/Phoenix:20201226T213000
DTSTAMP:20260425T045506
CREATED:20201111T172457Z
LAST-MODIFIED:20201111T172457Z
UID:5489-1609009200-1609018200@timbatemanentertainment.com
SUMMARY:Stir Crazy Comedy Club\, Glendale AZ
DESCRIPTION:
URL:https://timbatemanentertainment.com/event/stir-crazy-comedy-club-glendale-az-14/
CATEGORIES:Comedy Show
END:VEVENT
BEGIN:VEVENT
DTSTART;TZID=America/Phoenix:20201225T190000
DTEND;TZID=America/Phoenix:20201225T190000
DTSTAMP:20260425T045506
CREATED:20201111T172253Z
LAST-MODIFIED:20201111T172253Z
UID:5487-1608922800-1608922800@timbatemanentertainment.com
SUMMARY:Stir Crazy Comedy Club\, Glendale AZ
DESCRIPTION:
URL:https://timbatemanentertainment.com/event/stir-crazy-comedy-club-glendale-az-13/
CATEGORIES:Comedy Show
END:VEVENT
BEGIN:VEVENT
DTSTART;TZID=America/Phoenix:20201120T190000
DTEND;TZID=America/Phoenix:20201120T190000
DTSTAMP:20260425T045506
CREATED:20200420T180539Z
LAST-MODIFIED:20200420T180539Z
UID:5443-1605898800-1605898800@timbatemanentertainment.com
SUMMARY:Private Event - Superstition Sunrise\, Apache Junction AZ
DESCRIPTION:
URL:https://timbatemanentertainment.com/event/private-event-superstition-sunrise-apache-junction-az/
CATEGORIES:Private Event
END:VEVENT
BEGIN:VEVENT
DTSTART;TZID=America/Phoenix:20201017T190000
DTEND;TZID=America/Phoenix:20201017T213000
DTSTAMP:20260425T045506
CREATED:20200930T171834Z
LAST-MODIFIED:20200930T171834Z
UID:5477-1602961200-1602970200@timbatemanentertainment.com
SUMMARY:Stir Crazy Comedy Club\, Glendale AZ
DESCRIPTION:
URL:https://timbatemanentertainment.com/event/stir-crazy-comedy-club-glendale-az-12/
CATEGORIES:Comedy Show
END:VEVENT
BEGIN:VEVENT
DTSTART;TZID=America/Phoenix:20201016T190000
DTEND;TZID=America/Phoenix:20201016T190000
DTSTAMP:20260425T045506
CREATED:20200930T171712Z
LAST-MODIFIED:20200930T171712Z
UID:5475-1602874800-1602874800@timbatemanentertainment.com
SUMMARY:Stir Crazy Comedy Club\, Glendale AZ
DESCRIPTION:
URL:https://timbatemanentertainment.com/event/stir-crazy-comedy-club-glendale-az-11/
CATEGORIES:Comedy Show
END:VEVENT
BEGIN:VEVENT
DTSTART;TZID=America/Phoenix:20201010T190000
DTEND;TZID=America/Phoenix:20201010T210000
DTSTAMP:20260425T045506
CREATED:20200703T220853Z
LAST-MODIFIED:20200703T220853Z
UID:5469-1602356400-1602363600@timbatemanentertainment.com
SUMMARY:Clint's Comedy Stop\, Overland Park KS
DESCRIPTION:
URL:https://timbatemanentertainment.com/event/clints-comedy-stop-overland-park-ks-8/
CATEGORIES:Comedy Show
END:VEVENT
BEGIN:VEVENT
DTSTART;TZID=America/Phoenix:20201010T190000
DTEND;TZID=America/Phoenix:20201010T210000
DTSTAMP:20260425T045506
CREATED:20200703T220616Z
LAST-MODIFIED:20200703T220616Z
UID:5467-1602356400-1602363600@timbatemanentertainment.com
SUMMARY:Clint's Comedy Stop\, Overland Park KS
DESCRIPTION:
URL:https://timbatemanentertainment.com/event/clints-comedy-stop-overland-park-ks-2/
END:VEVENT
BEGIN:VEVENT
DTSTART;TZID=America/Phoenix:20201009T190000
DTEND;TZID=America/Phoenix:20201009T210000
DTSTAMP:20260425T045506
CREATED:20200703T220455Z
LAST-MODIFIED:20200703T220455Z
UID:5465-1602270000-1602277200@timbatemanentertainment.com
SUMMARY:Clint's Comedy Stop\, Overland Park KS
DESCRIPTION:
URL:https://timbatemanentertainment.com/event/clints-comedy-stop-overland-park-ks/
CATEGORIES:Comedy Show
END:VEVENT
BEGIN:VEVENT
DTSTART;TZID=America/Phoenix:20200910T170000
DTEND;TZID=America/Phoenix:20200910T170000
DTSTAMP:20260425T045506
CREATED:20200813T214149Z
LAST-MODIFIED:20200813T214149Z
UID:5472-1599757200-1599757200@timbatemanentertainment.com
SUMMARY:Private Event - Virtual Event for RAPAC.
DESCRIPTION:
URL:https://timbatemanentertainment.com/event/private-event-virtual-event-for-rapac/
CATEGORIES:Private Event
END:VEVENT
BEGIN:VEVENT
DTSTART;TZID=America/Phoenix:20200606T200000
DTEND;TZID=America/Phoenix:20200606T223000
DTSTAMP:20260425T045506
CREATED:20200602T052117Z
LAST-MODIFIED:20200602T052117Z
UID:5457-1591473600-1591482600@timbatemanentertainment.com
SUMMARY:Laffs Comedy Caffe\, Tucson AZ
DESCRIPTION:
URL:https://timbatemanentertainment.com/event/laffs-comedy-caffe-tucson-az-4/
CATEGORIES:Comedy Show
END:VEVENT
BEGIN:VEVENT
DTSTART;TZID=America/Phoenix:20200605T200000
DTEND;TZID=America/Phoenix:20200605T223000
DTSTAMP:20260425T045506
CREATED:20200602T051959Z
LAST-MODIFIED:20200602T051959Z
UID:5455-1591387200-1591396200@timbatemanentertainment.com
SUMMARY:Laffs Comedy Caffe\, Tucson AZ
DESCRIPTION:
URL:https://timbatemanentertainment.com/event/laffs-comedy-caffe-tucson-az-3/
CATEGORIES:Comedy Show
END:VEVENT
BEGIN:VEVENT
DTSTART;TZID=America/Phoenix:20200404T200000
DTEND;TZID=America/Phoenix:20200404T223000
DTSTAMP:20260425T045506
CREATED:20190926T043956Z
LAST-MODIFIED:20191008T043347Z
UID:5347-1586030400-1586039400@timbatemanentertainment.com
SUMMARY:Laffs Comedy Caffe\, Tucson AZ
DESCRIPTION:
URL:https://timbatemanentertainment.com/event/laffs-comedy-caffe-tucson-az-2/
CATEGORIES:Comedy Show
END:VEVENT
BEGIN:VEVENT
DTSTART;TZID=America/Phoenix:20200403T200000
DTEND;TZID=America/Phoenix:20200403T223000
DTSTAMP:20260425T045506
CREATED:20190926T043742Z
LAST-MODIFIED:20191008T043236Z
UID:5345-1585944000-1585953000@timbatemanentertainment.com
SUMMARY:Laffs Comedy Caffe\, Tucson AZ
DESCRIPTION:
URL:https://timbatemanentertainment.com/event/laffs-comedy-caffe-tucson-az/
CATEGORIES:Comedy Show
END:VEVENT
BEGIN:VEVENT
DTSTART;TZID=America/Phoenix:20200402T080000
DTEND;TZID=America/Phoenix:20200402T170000
DTSTAMP:20260425T045506
CREATED:20200122T170616Z
LAST-MODIFIED:20200122T171056Z
UID:5419-1585814400-1585846800@timbatemanentertainment.com
SUMMARY:Private Event - Gold Canyon RV & Golf Resort\, Gold Canyon AZ
DESCRIPTION:
URL:https://timbatemanentertainment.com/event/private-event-gold-canyon-rv-golf-resort-gold-canyon-az/
CATEGORIES:Private Event
END:VEVENT
BEGIN:VEVENT
DTSTART;TZID=America/Phoenix:20200318T080000
DTEND;TZID=America/Phoenix:20200328T170000
DTSTAMP:20260425T045506
CREATED:20190910T222952Z
LAST-MODIFIED:20200122T171824Z
UID:5288-1584518400-1585414800@timbatemanentertainment.com
SUMMARY:Regent Cruises - Navigator\, South Pacific
DESCRIPTION:
URL:https://timbatemanentertainment.com/event/regent-cruises-navigator-south-pacific/
CATEGORIES:Private Event
END:VEVENT
BEGIN:VEVENT
DTSTART;TZID=America/Phoenix:20200229T200000
DTEND;TZID=America/Phoenix:20200229T200000
DTSTAMP:20260425T045506
CREATED:20200122T165937Z
LAST-MODIFIED:20200122T165937Z
UID:5413-1583006400-1583006400@timbatemanentertainment.com
SUMMARY:The Soccer Dad Show\, Mesa AZ
DESCRIPTION:
URL:https://timbatemanentertainment.com/event/the-soccer-dad-show-mesa-az/
CATEGORIES:Comedy Show
END:VEVENT
BEGIN:VEVENT
DTSTART;TZID=America/Phoenix:20200228T190000
DTEND;TZID=America/Phoenix:20200228T190000
DTSTAMP:20260425T045506
CREATED:20190910T222622Z
LAST-MODIFIED:20190910T222622Z
UID:5286-1582916400-1582916400@timbatemanentertainment.com
SUMMARY:Private Event - Weavers Needle RV Resort\, Apache Junction AZ
DESCRIPTION:
URL:https://timbatemanentertainment.com/event/private-event-weavers-needle-rv-resort-apache-junction-az/
CATEGORIES:Private Event
END:VEVENT
BEGIN:VEVENT
DTSTART;TZID=America/Phoenix:20200224T190000
DTEND;TZID=America/Phoenix:20200224T190000
DTSTAMP:20260425T045506
CREATED:20200130T132351Z
LAST-MODIFIED:20200130T132351Z
UID:5422-1582570800-1582570800@timbatemanentertainment.com
SUMMARY:Uncle Bears\, Phoenix AZ
DESCRIPTION:
URL:https://timbatemanentertainment.com/event/uncle-bears-phoenix-az/
CATEGORIES:Comedy Show
END:VEVENT
BEGIN:VEVENT
DTSTART;TZID=America/Phoenix:20200222T190000
DTEND;TZID=America/Phoenix:20200222T190000
DTSTAMP:20260425T045506
CREATED:20191224T155737Z
LAST-MODIFIED:20191224T155737Z
UID:5392-1582398000-1582398000@timbatemanentertainment.com
SUMMARY:The Tipsy Cactus\, Chandler AZ
DESCRIPTION:
URL:https://timbatemanentertainment.com/event/the-tipsy-cactus-chandler-az/
CATEGORIES:Comedy Show
END:VEVENT
BEGIN:VEVENT
DTSTART;TZID=America/Phoenix:20200216T190000
DTEND;TZID=America/Phoenix:20200216T190000
DTSTAMP:20260425T045506
CREATED:20200122T165612Z
LAST-MODIFIED:20200122T165612Z
UID:5411-1581879600-1581879600@timbatemanentertainment.com
SUMMARY:Palm Creek Golf and Resort\, Casa Grande AZ
DESCRIPTION:
URL:https://timbatemanentertainment.com/event/palm-creek-golf-and-resort-casa-grande-az/
CATEGORIES:Comedy Show
END:VEVENT
BEGIN:VEVENT
DTSTART;TZID=America/Phoenix:20200215T190000
DTEND;TZID=America/Phoenix:20200215T213000
DTSTAMP:20260425T045506
CREATED:20191120T204808Z
LAST-MODIFIED:20191120T204808Z
UID:5384-1581793200-1581802200@timbatemanentertainment.com
SUMMARY:Stir Crazy Comedy Club\, Glendale AZ
DESCRIPTION:
URL:https://timbatemanentertainment.com/event/stir-crazy-comedy-club-glendale-az-10/
CATEGORIES:Comedy Show
END:VEVENT
BEGIN:VEVENT
DTSTART;TZID=America/Phoenix:20200214T190000
DTEND;TZID=America/Phoenix:20200214T213000
DTSTAMP:20260425T045506
CREATED:20191120T204705Z
LAST-MODIFIED:20191120T204705Z
UID:5382-1581706800-1581715800@timbatemanentertainment.com
SUMMARY:Stir Crazy Comedy Club\, Glendale AZ
DESCRIPTION:
URL:https://timbatemanentertainment.com/event/stir-crazy-comedy-club-glendale-az-9/
CATEGORIES:Comedy Show
END:VEVENT
BEGIN:VEVENT
DTSTART;TZID=America/Phoenix:20200213T190000
DTEND;TZID=America/Phoenix:20200213T190000
DTSTAMP:20260425T045506
CREATED:20191120T204558Z
LAST-MODIFIED:20200122T162424Z
UID:5380-1581620400-1581620400@timbatemanentertainment.com
SUMMARY:Mesa Spirit\, Mesa AZ
DESCRIPTION:
URL:https://timbatemanentertainment.com/event/stir-crazy-comedy-club-glendale-az-6/
CATEGORIES:Comedy Show
END:VEVENT
BEGIN:VEVENT
DTSTART;TZID=America/Phoenix:20200212T190000
DTEND;TZID=America/Phoenix:20200212T190000
DTSTAMP:20260425T045506
CREATED:20200122T165237Z
LAST-MODIFIED:20200122T165237Z
UID:5409-1581534000-1581534000@timbatemanentertainment.com
SUMMARY:Highlands at Dove Mountain\, Marana AZ
DESCRIPTION:
URL:https://timbatemanentertainment.com/event/highlands-at-dove-mountain-marana-az/
CATEGORIES:Comedy Show
END:VEVENT
BEGIN:VEVENT
DTSTART;TZID=America/Phoenix:20200211T150000
DTEND;TZID=America/Phoenix:20200211T190000
DTSTAMP:20260425T045506
CREATED:20200122T165019Z
LAST-MODIFIED:20200122T165019Z
UID:5407-1581433200-1581447600@timbatemanentertainment.com
SUMMARY:Mission Royale\, Casa Grande AZ
DESCRIPTION:
URL:https://timbatemanentertainment.com/event/mission-royale-casa-grande-az/
CATEGORIES:Comedy Show
END:VEVENT
BEGIN:VEVENT
DTSTART;TZID=America/Phoenix:20200210T190000
DTEND;TZID=America/Phoenix:20200210T190000
DTSTAMP:20260425T045506
CREATED:20200122T164552Z
LAST-MODIFIED:20200122T164552Z
UID:5405-1581361200-1581361200@timbatemanentertainment.com
SUMMARY:Leisure World\, Mesa AZ
DESCRIPTION:
URL:https://timbatemanentertainment.com/event/leisure-world-mesa-az/
CATEGORIES:Comedy Show
END:VEVENT
BEGIN:VEVENT
DTSTART;TZID=America/Phoenix:20200208T150000
DTEND;TZID=America/Phoenix:20200208T190000
DTSTAMP:20260425T045506
CREATED:20200122T164254Z
LAST-MODIFIED:20200122T164254Z
UID:5403-1581174000-1581188400@timbatemanentertainment.com
SUMMARY:Sundance Adult\, Buckeye AZ
DESCRIPTION:
URL:https://timbatemanentertainment.com/event/sundance-adult-buckeye-az/
CATEGORIES:Comedy Show
END:VEVENT
BEGIN:VEVENT
DTSTART;TZID=America/Phoenix:20200206T150000
DTEND;TZID=America/Phoenix:20200206T190000
DTSTAMP:20260425T045506
CREATED:20200122T163450Z
LAST-MODIFIED:20200122T163450Z
UID:5401-1581001200-1581015600@timbatemanentertainment.com
SUMMARY:Sunbird Golf Resort\, Chandler AZ
DESCRIPTION:
URL:https://timbatemanentertainment.com/event/sunbird-golf-resort-chandler-az/
CATEGORIES:Comedy Show
END:VEVENT
BEGIN:VEVENT
DTSTART;TZID=America/Phoenix:20200205T180000
DTEND;TZID=America/Phoenix:20200205T180000
DTSTAMP:20260425T045506
CREATED:20191216T230453Z
LAST-MODIFIED:20191216T230453Z
UID:5390-1580925600-1580925600@timbatemanentertainment.com
SUMMARY:Private Event - Sun City West\, Surprise AZ
DESCRIPTION:
URL:https://timbatemanentertainment.com/event/private-event-sun-city-west-surprise-az-5/
CATEGORIES:Private Event
END:VEVENT
END:VCALENDAR