BEGIN:VCALENDAR
VERSION:2.0
PRODID:-//Tim Bateman Entertainment - ECPv6.15.20//NONSGML v1.0//EN
CALSCALE:GREGORIAN
METHOD:PUBLISH
X-ORIGINAL-URL:https://timbatemanentertainment.com
X-WR-CALDESC:Events for Tim Bateman Entertainment
REFRESH-INTERVAL;VALUE=DURATION:PT1H
X-Robots-Tag:noindex
X-PUBLISHED-TTL:PT1H
BEGIN:VTIMEZONE
TZID:America/Phoenix
BEGIN:STANDARD
TZOFFSETFROM:-0700
TZOFFSETTO:-0700
TZNAME:MST
DTSTART:20170101T000000
END:STANDARD
END:VTIMEZONE
BEGIN:VEVENT
DTSTART;TZID=America/Phoenix:20181016T213000
DTEND;TZID=America/Phoenix:20181016T213000
DTSTAMP:20260424T204610
CREATED:20180914T213007Z
LAST-MODIFIED:20180914T213007Z
UID:4778-1539725400-1539725400@timbatemanentertainment.com
SUMMARY:Private Event - NACE - Phoenix Art Museum\, Phoenix AZ
DESCRIPTION:
URL:https://timbatemanentertainment.com/event/private-event-nace-phoenix-art-museum-phoenix-az/
CATEGORIES:Private Event
END:VEVENT
BEGIN:VEVENT
DTSTART;TZID=America/Phoenix:20181001T193000
DTEND;TZID=America/Phoenix:20181001T193000
DTSTAMP:20260424T204610
CREATED:20180925T033917Z
LAST-MODIFIED:20180925T033917Z
UID:4785-1538422200-1538422200@timbatemanentertainment.com
SUMMARY:Private Event - Stand Up Live\, Phoenix AZ
DESCRIPTION:
URL:https://timbatemanentertainment.com/event/private-event-stand-up-live-phoenix-az-2/
CATEGORIES:Private Event
END:VEVENT
BEGIN:VEVENT
DTSTART;TZID=America/Phoenix:20180919T190000
DTEND;TZID=America/Phoenix:20180919T190000
DTSTAMP:20260424T204610
CREATED:20180725T223027Z
LAST-MODIFIED:20180725T223027Z
UID:4736-1537383600-1537383600@timbatemanentertainment.com
SUMMARY:TAD Comedy Showcase\, Sun Village\, Surprise AZ
DESCRIPTION:
URL:https://timbatemanentertainment.com/event/tad-comedy-showcase-peoria-az/
CATEGORIES:Private Event
END:VEVENT
BEGIN:VEVENT
DTSTART;TZID=America/Phoenix:20180913T173000
DTEND;TZID=America/Phoenix:20180913T173000
DTSTAMP:20260424T204610
CREATED:20180817T173632Z
LAST-MODIFIED:20180817T173632Z
UID:4748-1536859800-1536859800@timbatemanentertainment.com
SUMMARY:Private Event - West USA Grand Opening\, Phoenix AZ
DESCRIPTION:
URL:https://timbatemanentertainment.com/event/private-event-west-usa-grand-opening-phoenix-az/
CATEGORIES:Private Event
END:VEVENT
BEGIN:VEVENT
DTSTART;TZID=America/Phoenix:20180720T200000
DTEND;TZID=America/Phoenix:20180720T200000
DTSTAMP:20260424T204610
CREATED:20180716T203715Z
LAST-MODIFIED:20180716T203715Z
UID:4723-1532116800-1532116800@timbatemanentertainment.com
SUMMARY:Private Event - Wigwam Resort\, Litchfield Pk AZ
DESCRIPTION:
URL:https://timbatemanentertainment.com/event/private-event-wigwam-resort-litchfield-pk-az/
CATEGORIES:Private Event
END:VEVENT
BEGIN:VEVENT
DTSTART;TZID=America/Phoenix:20180518T150000
DTEND;TZID=America/Phoenix:20180518T150000
DTSTAMP:20260424T204610
CREATED:20180514T225627Z
LAST-MODIFIED:20180514T225627Z
UID:4710-1526655600-1526655600@timbatemanentertainment.com
SUMMARY:Private Event - Bridgewater Senior Community - Phoenix\, AZ
DESCRIPTION:
URL:https://timbatemanentertainment.com/event/private-event-bridgewater-senior-community-phoenix-az/
CATEGORIES:Private Event
END:VEVENT
BEGIN:VEVENT
DTSTART;TZID=America/Phoenix:20180511T213000
DTEND;TZID=America/Phoenix:20180511T213000
DTSTAMP:20260424T204610
CREATED:20180428T221336Z
LAST-MODIFIED:20180428T221336Z
UID:4704-1526074200-1526074200@timbatemanentertainment.com
SUMMARY:Private Event - Unexpected Art Gallery - Phoenix\, AZ
DESCRIPTION:
URL:https://timbatemanentertainment.com/event/private-event-phoenix-az-2/
CATEGORIES:Private Event
END:VEVENT
BEGIN:VEVENT
DTSTART;TZID=America/Phoenix:20180502T200000
DTEND;TZID=America/Phoenix:20180502T200000
DTSTAMP:20260424T204610
CREATED:20180501T193919Z
LAST-MODIFIED:20180501T193919Z
UID:4706-1525291200-1525291200@timbatemanentertainment.com
SUMMARY:Private Event - Tempe Improv - Tempe\, AZ.
DESCRIPTION:
URL:https://timbatemanentertainment.com/event/private-event-tempe-improv-tempe-az/
CATEGORIES:Private Event
END:VEVENT
BEGIN:VEVENT
DTSTART;TZID=America/Phoenix:20180419T190000
DTEND;TZID=America/Phoenix:20180419T190000
DTSTAMP:20260424T204610
CREATED:20180321T152838Z
LAST-MODIFIED:20180321T152838Z
UID:4673-1524164400-1524164400@timbatemanentertainment.com
SUMMARY:Private Event\, Phoenix AZ
DESCRIPTION:
URL:https://timbatemanentertainment.com/event/private-event-phoenix-az/
CATEGORIES:Private Event
END:VEVENT
BEGIN:VEVENT
DTSTART;TZID=America/Phoenix:20180328T210000
DTEND;TZID=America/Phoenix:20180328T210000
DTSTAMP:20260424T204610
CREATED:20180302T211124Z
LAST-MODIFIED:20180302T211124Z
UID:5085-1522270800-1522270800@timbatemanentertainment.com
SUMMARY:Private Event - Western Kierland Resort\, Scottsdale\, AZ
DESCRIPTION:
URL:https://timbatemanentertainment.com/event/private-event-western-kierland-resort-scottsdale-az-2/
CATEGORIES:Private Event
END:VEVENT
BEGIN:VEVENT
DTSTART;TZID=America/Phoenix:20180328T210000
DTEND;TZID=America/Phoenix:20180328T210000
DTSTAMP:20260424T204610
CREATED:20180302T211124Z
LAST-MODIFIED:20180302T211124Z
UID:4648-1522270800-1522270800@timbatemanentertainment.com
SUMMARY:Private Event - Western Kierland Resort\, Scottsdale\, AZ
DESCRIPTION:
URL:https://timbatemanentertainment.com/event/private-event-western-kierland-resort-scottsdale-az/
CATEGORIES:Private Event
END:VEVENT
BEGIN:VEVENT
DTSTART;TZID=America/Phoenix:20180326T180000
DTEND;TZID=America/Phoenix:20180326T180000
DTSTAMP:20260424T204610
CREATED:20180228T220429Z
LAST-MODIFIED:20180228T220429Z
UID:4641-1522087200-1522087200@timbatemanentertainment.com
SUMMARY:Private Event - Sun City West\, Surprise\, AZ
DESCRIPTION:
URL:https://timbatemanentertainment.com/event/private-event-sun-city-west-surprise-az-3/
CATEGORIES:Private Event
END:VEVENT
BEGIN:VEVENT
DTSTART;TZID=America/Phoenix:20180326T180000
DTEND;TZID=America/Phoenix:20180326T180000
DTSTAMP:20260424T204610
CREATED:20180228T220429Z
LAST-MODIFIED:20180228T220429Z
UID:5083-1522087200-1522087200@timbatemanentertainment.com
SUMMARY:Private Event - Sun City West\, Surprise\, AZ
DESCRIPTION:
URL:https://timbatemanentertainment.com/event/private-event-sun-city-west-surprise-az-3-2/
CATEGORIES:Private Event
END:VEVENT
BEGIN:VEVENT
DTSTART;TZID=America/Phoenix:20180325T130000
DTEND;TZID=America/Phoenix:20180325T130000
DTSTAMP:20260424T204610
CREATED:20180228T222138Z
LAST-MODIFIED:20180228T222138Z
UID:5084-1521982800-1521982800@timbatemanentertainment.com
SUMMARY:Private Event\, Surprise\, AZ
DESCRIPTION:
URL:https://timbatemanentertainment.com/event/private-event-surprise-az-2/
CATEGORIES:Private Event
END:VEVENT
BEGIN:VEVENT
DTSTART;TZID=America/Phoenix:20180325T130000
DTEND;TZID=America/Phoenix:20180325T130000
DTSTAMP:20260424T204610
CREATED:20180228T222138Z
LAST-MODIFIED:20180228T222138Z
UID:4643-1521982800-1521982800@timbatemanentertainment.com
SUMMARY:Private Event\, Surprise\, AZ
DESCRIPTION:
URL:https://timbatemanentertainment.com/event/private-event-surprise-az/
CATEGORIES:Private Event
END:VEVENT
BEGIN:VEVENT
DTSTART;TZID=America/Phoenix:20180319T190000
DTEND;TZID=America/Phoenix:20180319T190000
DTSTAMP:20260424T204610
CREATED:20180210T212523Z
LAST-MODIFIED:20180210T212523Z
UID:4622-1521486000-1521486000@timbatemanentertainment.com
SUMMARY:Private Event - Sun City West\, Surprise\, AZ.
DESCRIPTION:
URL:https://timbatemanentertainment.com/event/private-event-sun-city-west-surprise-az/
CATEGORIES:Private Event
END:VEVENT
BEGIN:VEVENT
DTSTART;TZID=America/Phoenix:20180319T190000
DTEND;TZID=America/Phoenix:20180319T190000
DTSTAMP:20260424T204610
CREATED:20180210T212523Z
LAST-MODIFIED:20180210T212523Z
UID:5076-1521486000-1521486000@timbatemanentertainment.com
SUMMARY:Private Event - Sun City West\, Surprise\, AZ.
DESCRIPTION:
URL:https://timbatemanentertainment.com/event/private-event-sun-city-west-surprise-az-4/
CATEGORIES:Private Event
END:VEVENT
BEGIN:VEVENT
DTSTART;TZID=America/Phoenix:20180317T190000
DTEND;TZID=America/Phoenix:20180317T190000
DTSTAMP:20260424T204610
CREATED:20180304T072938Z
LAST-MODIFIED:20180304T072938Z
UID:4659-1521313200-1521313200@timbatemanentertainment.com
SUMMARY:Private Event - Sun Village\, Surprise\, AZ
DESCRIPTION:
URL:https://timbatemanentertainment.com/event/private-event-sun-village-surprise-az/
CATEGORIES:Private Event
END:VEVENT
BEGIN:VEVENT
DTSTART;TZID=America/Phoenix:20180314T190000
DTEND;TZID=America/Phoenix:20180314T190000
DTSTAMP:20260424T204610
CREATED:20180214T155834Z
LAST-MODIFIED:20180214T155834Z
UID:5078-1521054000-1521054000@timbatemanentertainment.com
SUMMARY:Private Event - Pueblo El Mirage Resort\, Pickleball Banquet\, El Mirage\, AZ
DESCRIPTION:
URL:https://timbatemanentertainment.com/event/private-event-pueblo-el-mirage-resort-pickleball-banquet-el-mirage-az-2/
CATEGORIES:Private Event
END:VEVENT
BEGIN:VEVENT
DTSTART;TZID=America/Phoenix:20180314T190000
DTEND;TZID=America/Phoenix:20180314T190000
DTSTAMP:20260424T204610
CREATED:20180214T155834Z
LAST-MODIFIED:20180214T155834Z
UID:4629-1521054000-1521054000@timbatemanentertainment.com
SUMMARY:Private Event - Pueblo El Mirage Resort\, Pickleball Banquet\, El Mirage\, AZ
DESCRIPTION:
URL:https://timbatemanentertainment.com/event/private-event-pueblo-el-mirage-resort-pickleball-banquet-el-mirage-az/
CATEGORIES:Private Event
END:VEVENT
BEGIN:VEVENT
DTSTART;TZID=America/Phoenix:20180309T190000
DTEND;TZID=America/Phoenix:20180309T190000
DTSTAMP:20260424T204610
CREATED:20180304T072511Z
LAST-MODIFIED:20180304T072511Z
UID:4657-1520622000-1520622000@timbatemanentertainment.com
SUMMARY:Private Event - Green Valley Performing Arts Center\, Green Valley\, AZ
DESCRIPTION:
URL:https://timbatemanentertainment.com/event/private-event-green-valley-performing-arts-center-green-valley-az-2/
CATEGORIES:Private Event
END:VEVENT
BEGIN:VEVENT
DTSTART;TZID=America/Phoenix:20180309T150000
DTEND;TZID=America/Phoenix:20180309T150000
DTSTAMP:20260424T204610
CREATED:20180304T072406Z
LAST-MODIFIED:20180304T072406Z
UID:4655-1520607600-1520607600@timbatemanentertainment.com
SUMMARY:Private Event - Green Valley Performing Arts Center\, Green Valley\, AZ
DESCRIPTION:
URL:https://timbatemanentertainment.com/event/private-event-green-valley-performing-arts-center-green-valley-az/
CATEGORIES:Private Event
END:VEVENT
BEGIN:VEVENT
DTSTART;TZID=America/Phoenix:20180305T190000
DTEND;TZID=America/Phoenix:20180305T190000
DTSTAMP:20260424T204610
CREATED:20180304T071656Z
LAST-MODIFIED:20180304T071656Z
UID:4653-1520276400-1520276400@timbatemanentertainment.com
SUMMARY:Private Event - Paradise RV Resort\, Sun City\, AZ
DESCRIPTION:
URL:https://timbatemanentertainment.com/event/private-event-paradise-rv-resort-sun-city-az/
CATEGORIES:Private Event
END:VEVENT
BEGIN:VEVENT
DTSTART;TZID=America/Phoenix:20180224T190000
DTEND;TZID=America/Phoenix:20180224T190000
DTSTAMP:20260424T204610
CREATED:20180222T132013Z
LAST-MODIFIED:20180222T132013Z
UID:5081-1519498800-1519498800@timbatemanentertainment.com
SUMMARY:Private Event - Las Palmas Resort\, Mesa\, AZ
DESCRIPTION:
URL:https://timbatemanentertainment.com/event/private-event-las-palmas-resort-mesa-az-2/
CATEGORIES:Private Event
END:VEVENT
BEGIN:VEVENT
DTSTART;TZID=America/Phoenix:20180224T190000
DTEND;TZID=America/Phoenix:20180224T190000
DTSTAMP:20260424T204610
CREATED:20180222T132013Z
LAST-MODIFIED:20180222T132013Z
UID:4636-1519498800-1519498800@timbatemanentertainment.com
SUMMARY:Private Event - Las Palmas Resort\, Mesa\, AZ
DESCRIPTION:
URL:https://timbatemanentertainment.com/event/private-event-las-palmas-resort-mesa-az/
CATEGORIES:Private Event
END:VEVENT
BEGIN:VEVENT
DTSTART;TZID=America/Phoenix:20180224T080000
DTEND;TZID=America/Phoenix:20180224T080000
DTSTAMP:20260424T204610
CREATED:20180115T140202Z
LAST-MODIFIED:20180115T140202Z
UID:4592-1519459200-1519459200@timbatemanentertainment.com
SUMMARY:Phoenix Convention Center\, Phoenix\, AZ - AGT Audition
DESCRIPTION:
URL:https://timbatemanentertainment.com/event/phoenix-convention-center-phoenix-az-agt-audition/
CATEGORIES:Private Event
END:VEVENT
BEGIN:VEVENT
DTSTART;TZID=America/Phoenix:20180224T080000
DTEND;TZID=America/Phoenix:20180224T080000
DTSTAMP:20260424T204610
CREATED:20180115T140202Z
LAST-MODIFIED:20180115T140202Z
UID:5068-1519459200-1519459200@timbatemanentertainment.com
SUMMARY:Phoenix Convention Center\, Phoenix\, AZ - AGT Audition
DESCRIPTION:
URL:https://timbatemanentertainment.com/event/phoenix-convention-center-phoenix-az-agt-audition-2/
CATEGORIES:Private Event
END:VEVENT
BEGIN:VEVENT
DTSTART;TZID=America/Phoenix:20180223T190000
DTEND;TZID=America/Phoenix:20180223T190000
DTSTAMP:20260424T204610
CREATED:20180222T131844Z
LAST-MODIFIED:20180222T131844Z
UID:5080-1519412400-1519412400@timbatemanentertainment.com
SUMMARY:Private Event - Queen Valley Resort\, Queen Valley\, AZ
DESCRIPTION:
URL:https://timbatemanentertainment.com/event/private-event-queen-valley-resort-queen-valley-az-2/
CATEGORIES:Private Event
END:VEVENT
BEGIN:VEVENT
DTSTART;TZID=America/Phoenix:20180223T190000
DTEND;TZID=America/Phoenix:20180223T190000
DTSTAMP:20260424T204610
CREATED:20180222T131844Z
LAST-MODIFIED:20180222T131844Z
UID:4634-1519412400-1519412400@timbatemanentertainment.com
SUMMARY:Private Event - Queen Valley Resort\, Queen Valley\, AZ
DESCRIPTION:
URL:https://timbatemanentertainment.com/event/private-event-queen-valley-resort-queen-valley-az/
CATEGORIES:Private Event
END:VEVENT
BEGIN:VEVENT
DTSTART;TZID=America/Phoenix:20180222T190000
DTEND;TZID=America/Phoenix:20180222T190000
DTSTAMP:20260424T204610
CREATED:20180222T131513Z
LAST-MODIFIED:20180222T131513Z
UID:5079-1519326000-1519326000@timbatemanentertainment.com
SUMMARY:Private Event - Sun Life\, Mesa\, AZ
DESCRIPTION:
URL:https://timbatemanentertainment.com/event/private-event-sun-life-mesa-az-2/
CATEGORIES:Private Event
END:VEVENT
END:VCALENDAR