BEGIN:VCALENDAR
VERSION:2.0
PRODID:-//Tim Bateman Entertainment - ECPv6.15.20//NONSGML v1.0//EN
CALSCALE:GREGORIAN
METHOD:PUBLISH
X-WR-CALNAME:Tim Bateman Entertainment
X-ORIGINAL-URL:https://timbatemanentertainment.com
X-WR-CALDESC:Events for Tim Bateman Entertainment
REFRESH-INTERVAL;VALUE=DURATION:PT1H
X-Robots-Tag:noindex
X-PUBLISHED-TTL:PT1H
BEGIN:VTIMEZONE
TZID:America/Phoenix
BEGIN:STANDARD
TZOFFSETFROM:-0700
TZOFFSETTO:-0700
TZNAME:MST
DTSTART:20240101T000000
END:STANDARD
END:VTIMEZONE
BEGIN:VEVENT
DTSTART;TZID=America/Phoenix:20251206T080000
DTEND;TZID=America/Phoenix:20251213T170000
DTSTAMP:20260424T184852
CREATED:20250930T192624Z
LAST-MODIFIED:20250930T192624Z
UID:5906-1765008000-1765645200@timbatemanentertainment.com
SUMMARY:MSC Cruises - MSC Grandiosa  - Caribbean Bahamas
DESCRIPTION:
URL:https://timbatemanentertainment.com/event/msc-cruises-msc-grandiosa-caribbean-bahamas/
CATEGORIES:Private Event
ATTACH;FMTTYPE=image/jpeg:https://timbatemanentertainment.com/wp-content/uploads/2025/03/Sunset-on-the-ship.jpg
END:VEVENT
END:VCALENDAR