BEGIN:VCALENDAR
VERSION:2.0
PRODID:-//Tim Bateman Entertainment - ECPv6.15.20//NONSGML v1.0//EN
CALSCALE:GREGORIAN
METHOD:PUBLISH
X-WR-CALNAME:Tim Bateman Entertainment
X-ORIGINAL-URL:https://timbatemanentertainment.com
X-WR-CALDESC:Events for Tim Bateman Entertainment
REFRESH-INTERVAL;VALUE=DURATION:PT1H
X-Robots-Tag:noindex
X-PUBLISHED-TTL:PT1H
BEGIN:VTIMEZONE
TZID:America/Phoenix
BEGIN:STANDARD
TZOFFSETFROM:-0700
TZOFFSETTO:-0700
TZNAME:MST
DTSTART:20170101T000000
END:STANDARD
END:VTIMEZONE
BEGIN:VEVENT
DTSTART;TZID=America/Phoenix:20200206T150000
DTEND;TZID=America/Phoenix:20200206T190000
DTSTAMP:20260425T032225
CREATED:20200122T163450Z
LAST-MODIFIED:20200122T163450Z
UID:5401-1581001200-1581015600@timbatemanentertainment.com
SUMMARY:Sunbird Golf Resort\, Chandler AZ
DESCRIPTION:
URL:https://timbatemanentertainment.com/event/sunbird-golf-resort-chandler-az/
CATEGORIES:Comedy Show
END:VEVENT
BEGIN:VEVENT
DTSTART;TZID=America/Phoenix:20200204T190000
DTEND;TZID=America/Phoenix:20200204T190000
DTSTAMP:20260425T032225
CREATED:20200122T163231Z
LAST-MODIFIED:20200122T163231Z
UID:5399-1580842800-1580842800@timbatemanentertainment.com
SUMMARY:Monte Vista\, Mesa AZ
DESCRIPTION:
URL:https://timbatemanentertainment.com/event/monte-vista-mesa-az/
CATEGORIES:Comedy Show
END:VEVENT
BEGIN:VEVENT
DTSTART;TZID=America/Phoenix:20200203T190000
DTEND;TZID=America/Phoenix:20200203T190000
DTSTAMP:20260425T032225
CREATED:20200122T162950Z
LAST-MODIFIED:20200122T162950Z
UID:5397-1580756400-1580756400@timbatemanentertainment.com
SUMMARY:Paradise RV\, Sun City
DESCRIPTION:
URL:https://timbatemanentertainment.com/event/paradise-rv-sun-city/
CATEGORIES:Comedy Show
END:VEVENT
BEGIN:VEVENT
DTSTART;TZID=America/Phoenix:20200126T190000
DTEND;TZID=America/Phoenix:20200126T190000
DTSTAMP:20260425T032225
CREATED:20191120T204409Z
LAST-MODIFIED:20191120T204409Z
UID:5378-1580065200-1580065200@timbatemanentertainment.com
SUMMARY:House of Comedy\, Phoenix AZ
DESCRIPTION:
URL:https://timbatemanentertainment.com/event/house-of-comedy-phoenix-az-11/
CATEGORIES:Comedy Show
END:VEVENT
BEGIN:VEVENT
DTSTART;TZID=America/Phoenix:20200125T190000
DTEND;TZID=America/Phoenix:20200125T213000
DTSTAMP:20260425T032225
CREATED:20191120T204253Z
LAST-MODIFIED:20191120T204253Z
UID:5376-1579978800-1579987800@timbatemanentertainment.com
SUMMARY:House of Comedy\, Phoenix AZ
DESCRIPTION:
URL:https://timbatemanentertainment.com/event/house-of-comedy-phoenix-az-10/
CATEGORIES:Comedy Show
END:VEVENT
BEGIN:VEVENT
DTSTART;TZID=America/Phoenix:20200124T193000
DTEND;TZID=America/Phoenix:20200124T214500
DTSTAMP:20260425T032225
CREATED:20191120T204053Z
LAST-MODIFIED:20191120T204053Z
UID:5374-1579894200-1579902300@timbatemanentertainment.com
SUMMARY:House of Comedy\, Phoenix AZ
DESCRIPTION:
URL:https://timbatemanentertainment.com/event/house-of-comedy-phoenix-az-9/
CATEGORIES:Comedy Show
END:VEVENT
BEGIN:VEVENT
DTSTART;TZID=America/Phoenix:20200123T193000
DTEND;TZID=America/Phoenix:20200123T193000
DTSTAMP:20260425T032225
CREATED:20191120T203925Z
LAST-MODIFIED:20191120T203925Z
UID:5372-1579807800-1579807800@timbatemanentertainment.com
SUMMARY:House of Comedy\, Phoenix AZ
DESCRIPTION:
URL:https://timbatemanentertainment.com/event/house-of-comedy-phoenix-az-8/
CATEGORIES:Comedy Show
END:VEVENT
BEGIN:VEVENT
DTSTART;TZID=America/Phoenix:20200105T190000
DTEND;TZID=America/Phoenix:20200105T190000
DTSTAMP:20260425T032225
CREATED:20191107T204152Z
LAST-MODIFIED:20191107T204343Z
UID:5367-1578250800-1578250800@timbatemanentertainment.com
SUMMARY:Stir Crazy Comedy Club\, Glendale AZ
DESCRIPTION:
URL:https://timbatemanentertainment.com/event/stir-crazy-comedy-club-glendale-az-5/
CATEGORIES:Comedy Show
END:VEVENT
BEGIN:VEVENT
DTSTART;TZID=America/Phoenix:20191231T200000
DTEND;TZID=America/Phoenix:20191231T220000
DTSTAMP:20260425T032225
CREATED:20190910T222409Z
LAST-MODIFIED:20190910T222409Z
UID:5284-1577822400-1577829600@timbatemanentertainment.com
SUMMARY:Clint's Comedy Stop\, Overland Park KS
DESCRIPTION:
URL:https://timbatemanentertainment.com/event/clints-comedy-stop-overland-park-ks-7/
CATEGORIES:Comedy Show
END:VEVENT
BEGIN:VEVENT
DTSTART;TZID=America/Phoenix:20191228T200000
DTEND;TZID=America/Phoenix:20191228T220000
DTSTAMP:20260425T032225
CREATED:20190910T221700Z
LAST-MODIFIED:20190910T221700Z
UID:5281-1577563200-1577570400@timbatemanentertainment.com
SUMMARY:Clint's Comedy Stop\, Overland Park KS
DESCRIPTION:
URL:https://timbatemanentertainment.com/event/clints-comedy-stop-overland-park-ks-6/
CATEGORIES:Comedy Show
END:VEVENT
BEGIN:VEVENT
DTSTART;TZID=America/Phoenix:20191227T200000
DTEND;TZID=America/Phoenix:20191227T220000
DTSTAMP:20260425T032225
CREATED:20190910T221546Z
LAST-MODIFIED:20190910T221546Z
UID:5279-1577476800-1577484000@timbatemanentertainment.com
SUMMARY:Clint's Comedy Stop\, Overland Park KS
DESCRIPTION:
URL:https://timbatemanentertainment.com/event/clints-comedy-stop-overland-park-ks-5/
CATEGORIES:Comedy Show
END:VEVENT
BEGIN:VEVENT
DTSTART;TZID=America/Phoenix:20191226T200000
DTEND;TZID=America/Phoenix:20191226T200000
DTSTAMP:20260425T032225
CREATED:20190910T221437Z
LAST-MODIFIED:20190910T221437Z
UID:5277-1577390400-1577390400@timbatemanentertainment.com
SUMMARY:Clint's Comedy Stop\, Overland Park KS
DESCRIPTION:
URL:https://timbatemanentertainment.com/event/clints-comedy-stop-overland-park-ks-4/
CATEGORIES:Comedy Show
END:VEVENT
BEGIN:VEVENT
DTSTART;TZID=America/Phoenix:20191123T190000
DTEND;TZID=America/Phoenix:20191123T213000
DTSTAMP:20260425T032225
CREATED:20190910T220649Z
LAST-MODIFIED:20190910T220649Z
UID:5271-1574535600-1574544600@timbatemanentertainment.com
SUMMARY:Stir Crazy Comedy Club\, Glendale AZ
DESCRIPTION:
URL:https://timbatemanentertainment.com/event/stir-crazy-comedy-club-glendale-az-8/
CATEGORIES:Comedy Show
END:VEVENT
BEGIN:VEVENT
DTSTART;TZID=America/Phoenix:20191122T190000
DTEND;TZID=America/Phoenix:20191122T213000
DTSTAMP:20260425T032225
CREATED:20190910T220531Z
LAST-MODIFIED:20190910T220531Z
UID:5269-1574449200-1574458200@timbatemanentertainment.com
SUMMARY:Stir Crazy Comedy Club\, Glendale AZ
DESCRIPTION:
URL:https://timbatemanentertainment.com/event/stir-crazy-comedy-club-glendale-az-7/
CATEGORIES:Comedy Show
END:VEVENT
BEGIN:VEVENT
DTSTART;TZID=America/Phoenix:20191121T190000
DTEND;TZID=America/Phoenix:20191121T190000
DTSTAMP:20260425T032225
CREATED:20190910T220229Z
LAST-MODIFIED:20190910T220418Z
UID:5266-1574362800-1574362800@timbatemanentertainment.com
SUMMARY:Stir Crazy Comedy Club\, Glendale AZ
DESCRIPTION:
URL:https://timbatemanentertainment.com/event/stir-crazy-club-glendale-az/
CATEGORIES:Comedy Show
END:VEVENT
BEGIN:VEVENT
DTSTART;TZID=America/Phoenix:20191027T190000
DTEND;TZID=America/Phoenix:20191027T190000
DTSTAMP:20260425T032225
CREATED:20190924T222525Z
LAST-MODIFIED:20190924T222525Z
UID:5337-1572202800-1572202800@timbatemanentertainment.com
SUMMARY:Stir Crazy Comedy Club\, Glendale AZ
DESCRIPTION:
URL:https://timbatemanentertainment.com/event/stir-crazy-comedy-club-glendale-az-4/
CATEGORIES:Comedy Show
END:VEVENT
BEGIN:VEVENT
DTSTART;TZID=America/Phoenix:20191018T190000
DTEND;TZID=America/Phoenix:20191018T210000
DTSTAMP:20260425T032225
CREATED:20190910T214552Z
LAST-MODIFIED:20190910T214552Z
UID:5260-1571425200-1571432400@timbatemanentertainment.com
SUMMARY:The Forum Coworking Event\, Chandler AZ
DESCRIPTION:
URL:https://timbatemanentertainment.com/event/the-forum-coworking-event-chandler-az/
CATEGORIES:Comedy Show
END:VEVENT
BEGIN:VEVENT
DTSTART;TZID=America/Phoenix:20181029T190000
DTEND;TZID=America/Phoenix:20181029T190000
DTSTAMP:20260425T032225
CREATED:20180815T004151Z
LAST-MODIFIED:20180815T004151Z
UID:4746-1540839600-1540839600@timbatemanentertainment.com
SUMMARY:Hon-Dah Casino\, Pinetop AZ
DESCRIPTION:
URL:https://timbatemanentertainment.com/event/hon-dah-casino-pinetop-az/
CATEGORIES:Comedy Show
END:VEVENT
BEGIN:VEVENT
DTSTART;TZID=America/Phoenix:20181012T193000
DTEND;TZID=America/Phoenix:20181012T193000
DTSTAMP:20260425T032225
CREATED:20180729T152622Z
LAST-MODIFIED:20180729T152622Z
UID:4743-1539372600-1539372600@timbatemanentertainment.com
SUMMARY:Marana Laughs\, Marana AZ
DESCRIPTION:
URL:https://timbatemanentertainment.com/event/marana-laughs-marana-az/
CATEGORIES:Comedy Show
END:VEVENT
BEGIN:VEVENT
DTSTART;TZID=America/Phoenix:20181005T193000
DTEND;TZID=America/Phoenix:20181005T193000
DTSTAMP:20260425T032225
CREATED:20180729T152246Z
LAST-MODIFIED:20180729T152246Z
UID:4739-1538767800-1538767800@timbatemanentertainment.com
SUMMARY:Vail Laughs\, Tucson AZ
DESCRIPTION:
URL:https://timbatemanentertainment.com/event/vail-laughs-tucson-az/
CATEGORIES:Comedy Show
END:VEVENT
BEGIN:VEVENT
DTSTART;TZID=America/Phoenix:20181002T190000
DTEND;TZID=America/Phoenix:20181002T190000
DTSTAMP:20260425T032225
CREATED:20180603T171034Z
LAST-MODIFIED:20180603T171034Z
UID:4717-1538506800-1538506800@timbatemanentertainment.com
SUMMARY:House of Comedy\, Phoenix AZ
DESCRIPTION:
URL:https://timbatemanentertainment.com/event/house-of-comedy-phoenix-az-6/
CATEGORIES:Comedy Show
END:VEVENT
BEGIN:VEVENT
DTSTART;TZID=America/Phoenix:20180927T200000
DTEND;TZID=America/Phoenix:20180927T200000
DTSTAMP:20260425T032225
CREATED:20180925T033800Z
LAST-MODIFIED:20180925T033800Z
UID:4783-1538078400-1538078400@timbatemanentertainment.com
SUMMARY:"The Stand Outs" - Stand Up Live\, Phoenix AZ
DESCRIPTION:
URL:https://timbatemanentertainment.com/event/the-stand-outs-stand-up-live-phoenix-az/
CATEGORIES:Comedy Show
END:VEVENT
BEGIN:VEVENT
DTSTART;VALUE=DATE:20180922
DTEND;VALUE=DATE:20180923
DTSTAMP:20260425T032225
CREATED:20180603T170941Z
LAST-MODIFIED:20180603T170941Z
UID:4715-1537574400-1537660799@timbatemanentertainment.com
SUMMARY:Big Pine Comedy Festival\, Flagstaff AZ
DESCRIPTION:
URL:https://timbatemanentertainment.com/event/big-pine-comedy-festival-flagstaff-az-2/
CATEGORIES:Comedy Show
END:VEVENT
BEGIN:VEVENT
DTSTART;VALUE=DATE:20180921
DTEND;VALUE=DATE:20180922
DTSTAMP:20260425T032225
CREATED:20180603T170841Z
LAST-MODIFIED:20180603T170841Z
UID:4713-1537488000-1537574399@timbatemanentertainment.com
SUMMARY:Big Pine Comedy Festival\, Flagstaff AZ
DESCRIPTION:
URL:https://timbatemanentertainment.com/event/big-pine-comedy-festival-flagstaff-az/
CATEGORIES:Comedy Show
END:VEVENT
BEGIN:VEVENT
DTSTART;VALUE=DATE:20180920
DTEND;VALUE=DATE:20180921
DTSTAMP:20260425T032225
CREATED:20180716T213958Z
LAST-MODIFIED:20180716T213958Z
UID:4732-1537401600-1537487999@timbatemanentertainment.com
SUMMARY:Big Pine Comedy Festival\, Flagstaff AZ
DESCRIPTION:
URL:https://timbatemanentertainment.com/event/big-pine-comedy-festival-flagstaff-az-4/
CATEGORIES:Comedy Show
END:VEVENT
BEGIN:VEVENT
DTSTART;VALUE=DATE:20180919
DTEND;VALUE=DATE:20180920
DTSTAMP:20260425T032225
CREATED:20180716T213841Z
LAST-MODIFIED:20180716T213841Z
UID:4730-1537315200-1537401599@timbatemanentertainment.com
SUMMARY:Big Pine Comedy Festival\, Flagstaff AZ
DESCRIPTION:
URL:https://timbatemanentertainment.com/event/big-pine-comedy-festival-flagstaff-az-3/
CATEGORIES:Comedy Show
END:VEVENT
BEGIN:VEVENT
DTSTART;TZID=America/Phoenix:20180909T190000
DTEND;TZID=America/Phoenix:20180909T190000
DTSTAMP:20260425T032225
CREATED:20180716T204234Z
LAST-MODIFIED:20180716T204234Z
UID:4728-1536519600-1536519600@timbatemanentertainment.com
SUMMARY:My Place Club & Pub - Delta\, CO
DESCRIPTION:
URL:https://timbatemanentertainment.com/event/tba-delta-co/
CATEGORIES:Comedy Show
END:VEVENT
BEGIN:VEVENT
DTSTART;TZID=America/Phoenix:20180908T190000
DTEND;TZID=America/Phoenix:20180908T190000
DTSTAMP:20260425T032225
CREATED:20180307T131325Z
LAST-MODIFIED:20180307T131325Z
UID:4663-1536433200-1536433200@timbatemanentertainment.com
SUMMARY:Canyon Creek BnB\, Montrose\, CO
DESCRIPTION:
URL:https://timbatemanentertainment.com/event/canyon-creek-bnb-montrose-co/
CATEGORIES:Comedy Show
END:VEVENT
BEGIN:VEVENT
DTSTART;TZID=America/Phoenix:20180907T190000
DTEND;TZID=America/Phoenix:20180907T190000
DTSTAMP:20260425T032225
CREATED:20180307T131209Z
LAST-MODIFIED:20180307T131209Z
UID:4661-1536346800-1536346800@timbatemanentertainment.com
SUMMARY:Sun Ray Casino\, Farmington\, NM
DESCRIPTION:
URL:https://timbatemanentertainment.com/event/sun-ray-casino-farmington-nm/
CATEGORIES:Comedy Show
END:VEVENT
BEGIN:VEVENT
DTSTART;TZID=America/Phoenix:20180728T200000
DTEND;TZID=America/Phoenix:20180728T200000
DTSTAMP:20260425T032225
CREATED:20180408T160546Z
LAST-MODIFIED:20180408T160546Z
UID:4684-1532808000-1532808000@timbatemanentertainment.com
SUMMARY:Comedy Heights\, San Diego\, CA
DESCRIPTION:
URL:https://timbatemanentertainment.com/event/comedy-heights-san-diego-ca-2/
CATEGORIES:Comedy Show
END:VEVENT
END:VCALENDAR