BEGIN:VCALENDAR
VERSION:2.0
PRODID:-//Tim Bateman Entertainment - ECPv6.15.20//NONSGML v1.0//EN
CALSCALE:GREGORIAN
METHOD:PUBLISH
X-ORIGINAL-URL:https://timbatemanentertainment.com
X-WR-CALDESC:Events for Tim Bateman Entertainment
REFRESH-INTERVAL;VALUE=DURATION:PT1H
X-Robots-Tag:noindex
X-PUBLISHED-TTL:PT1H
BEGIN:VTIMEZONE
TZID:America/Phoenix
BEGIN:STANDARD
TZOFFSETFROM:-0700
TZOFFSETTO:-0700
TZNAME:MST
DTSTART:20200101T000000
END:STANDARD
END:VTIMEZONE
BEGIN:VEVENT
DTSTART;TZID=America/Phoenix:20250803T080000
DTEND;TZID=America/Phoenix:20250807T170000
DTSTAMP:20260424T170725
CREATED:20250317T194658Z
LAST-MODIFIED:20250317T194658Z
UID:5872-1754208000-1754586000@timbatemanentertainment.com
SUMMARY:Carnival Cruises - Carnival Liberty - Eastern Caribbean Itinerary.
DESCRIPTION:
URL:https://timbatemanentertainment.com/event/carnival-cruises-carnival-liberty-eastern-caribbean-itinerary/
CATEGORIES:Comedy Show
ATTACH;FMTTYPE=image/png:https://timbatemanentertainment.com/wp-content/uploads/2023/03/carnival-1.png
END:VEVENT
BEGIN:VEVENT
DTSTART;TZID=America/Phoenix:20250721T080000
DTEND;TZID=America/Phoenix:20250731T170000
DTSTAMP:20260424T170725
CREATED:20250317T194415Z
LAST-MODIFIED:20250317T194415Z
UID:5870-1753084800-1753981200@timbatemanentertainment.com
SUMMARY:Carnival Cruises - Carnival Valor - Western Caribbean Itinerary
DESCRIPTION:
URL:https://timbatemanentertainment.com/event/carnival-cruises-carnival-valor-western-caribbean-itinerary/
CATEGORIES:Comedy Show
ATTACH;FMTTYPE=image/png:https://timbatemanentertainment.com/wp-content/uploads/2023/03/carnival-1.png
END:VEVENT
BEGIN:VEVENT
DTSTART;TZID=America/Phoenix:20250617T080000
DTEND;TZID=America/Phoenix:20250626T170000
DTSTAMP:20260424T170725
CREATED:20250317T194133Z
LAST-MODIFIED:20250317T194133Z
UID:5868-1750147200-1750957200@timbatemanentertainment.com
SUMMARY:Carnival Cruises - Carnival Valor - Trans Atlantic Crossing.
DESCRIPTION:
URL:https://timbatemanentertainment.com/event/carnival-cruises-carnival-valor-trans-atlantic-crossing/
CATEGORIES:Comedy Show
ATTACH;FMTTYPE=image/png:https://timbatemanentertainment.com/wp-content/uploads/2023/03/carnival-1.png
END:VEVENT
BEGIN:VEVENT
DTSTART;TZID=America/Phoenix:20250422T080000
DTEND;TZID=America/Phoenix:20250430T170000
DTSTAMP:20260424T170725
CREATED:20250317T193921Z
LAST-MODIFIED:20250317T193921Z
UID:5865-1745308800-1746032400@timbatemanentertainment.com
SUMMARY:Carnival Cruises - Carnival Magic - Western Caribbean Itinerary
DESCRIPTION:
URL:https://timbatemanentertainment.com/event/carnival-cruises-carnival-magic-western-caribbean-itinerary/
CATEGORIES:Comedy Show
ATTACH;FMTTYPE=image/png:https://timbatemanentertainment.com/wp-content/uploads/2023/03/carnival-1.png
END:VEVENT
BEGIN:VEVENT
DTSTART;TZID=America/Phoenix:20250323T080000
DTEND;TZID=America/Phoenix:20250330T170000
DTSTAMP:20260424T170725
CREATED:20250317T193548Z
LAST-MODIFIED:20250317T193548Z
UID:5863-1742716800-1743354000@timbatemanentertainment.com
SUMMARY:MSC Cruises - MSC Seashore - Bahamas Itinerary.
DESCRIPTION:
URL:https://timbatemanentertainment.com/event/msc-cruises-msc-seashore-bahamas-itinerary/
CATEGORIES:Comedy Show
ATTACH;FMTTYPE=image/jpeg:https://timbatemanentertainment.com/wp-content/uploads/2024/06/No-1-Headshot.jpg
END:VEVENT
BEGIN:VEVENT
DTSTART;TZID=America/Phoenix:20241220T080000
DTEND;TZID=America/Phoenix:20241230T170000
DTSTAMP:20260424T170725
CREATED:20241104T152736Z
LAST-MODIFIED:20241209T174302Z
UID:5840-1734681600-1735578000@timbatemanentertainment.com
SUMMARY:MSC Cruise - MSC Divina - Eastern Caribbean Itinerary
DESCRIPTION:
URL:https://timbatemanentertainment.com/event/msc-cruise-msc-seascape-southern-caribbean-itinerary/
CATEGORIES:Comedy Show
ATTACH;FMTTYPE=image/jpeg:https://timbatemanentertainment.com/wp-content/uploads/2019/09/AZs-Funniest-1-2.jpg
END:VEVENT
BEGIN:VEVENT
DTSTART;TZID=America/Phoenix:20241127T080000
DTEND;TZID=America/Phoenix:20241201T170000
DTSTAMP:20260424T170725
CREATED:20241104T152408Z
LAST-MODIFIED:20241104T152408Z
UID:5838-1732694400-1733072400@timbatemanentertainment.com
SUMMARY:Carnival Cruise - Carnival Pride - Eastern Caribbean Itinerary
DESCRIPTION:
URL:https://timbatemanentertainment.com/event/carnival-cruise-carnival-pride-eastern-caribbean-itinerary/
CATEGORIES:Comedy Show
ATTACH;FMTTYPE=image/png:https://timbatemanentertainment.com/wp-content/uploads/2023/03/carnival-1.png
END:VEVENT
BEGIN:VEVENT
DTSTART;TZID=America/Phoenix:20241107T080000
DTEND;TZID=America/Phoenix:20241111T170000
DTSTAMP:20260424T170725
CREATED:20240529T214232Z
LAST-MODIFIED:20241104T152145Z
UID:5810-1730966400-1731344400@timbatemanentertainment.com
SUMMARY:Carnival Cruise - Carnival Valor - Western Caribbean Itinerary
DESCRIPTION:
URL:https://timbatemanentertainment.com/event/carnival-cruise-carnival-valor-western-caribbean-itinerary-2/
CATEGORIES:Comedy Show
ATTACH;FMTTYPE=image/png:https://timbatemanentertainment.com/wp-content/uploads/2023/03/carnival-1.png
END:VEVENT
BEGIN:VEVENT
DTSTART;TZID=America/Phoenix:20220710T080000
DTEND;TZID=America/Phoenix:20220717T170000
DTSTAMP:20260424T170725
CREATED:20220510T143715Z
LAST-MODIFIED:20220510T143715Z
UID:5693-1657440000-1658077200@timbatemanentertainment.com
SUMMARY:MSC Divina - Eastern Caribbean Itinerary
DESCRIPTION:
URL:https://timbatemanentertainment.com/event/msc-divina-eastern-caribbean-itinerary/
CATEGORIES:Comedy Show
END:VEVENT
BEGIN:VEVENT
DTSTART;TZID=America/Phoenix:20220625T080000
DTEND;TZID=America/Phoenix:20220703T170000
DTSTAMP:20260424T170725
CREATED:20220616T195244Z
LAST-MODIFIED:20220616T195244Z
UID:5697-1656144000-1656867600@timbatemanentertainment.com
SUMMARY:Carnival Horizon - Western Caribbean Itinerary
DESCRIPTION:
URL:https://timbatemanentertainment.com/event/carnival-horizon-western-caribbean-itinerary/
CATEGORIES:Comedy Show
END:VEVENT
BEGIN:VEVENT
DTSTART;TZID=America/Phoenix:20220528T080000
DTEND;TZID=America/Phoenix:20220605T170000
DTSTAMP:20260424T170725
CREATED:20220510T143629Z
LAST-MODIFIED:20220510T143629Z
UID:5691-1653724800-1654448400@timbatemanentertainment.com
SUMMARY:Carnival Horizon - ABC Caribbean Itinerary
DESCRIPTION:
URL:https://timbatemanentertainment.com/event/carnival-horizon-abc-caribbean-itinerary/
CATEGORIES:Comedy Show
END:VEVENT
BEGIN:VEVENT
DTSTART;TZID=America/Phoenix:20220526T190000
DTEND;TZID=America/Phoenix:20220526T190000
DTSTAMP:20260424T170725
CREATED:20220510T143522Z
LAST-MODIFIED:20220510T143522Z
UID:5689-1653591600-1653591600@timbatemanentertainment.com
SUMMARY:Stir Crazy Comedy Club - Glendale\, AZ
DESCRIPTION:
URL:https://timbatemanentertainment.com/event/stir-crazy-comedy-club-glendale-az-20/
CATEGORIES:Comedy Show
END:VEVENT
BEGIN:VEVENT
DTSTART;TZID=America/Phoenix:20220507T190000
DTEND;TZID=America/Phoenix:20220507T213000
DTSTAMP:20260424T170725
CREATED:20220219T141020Z
LAST-MODIFIED:20220414T052857Z
UID:5665-1651950000-1651959000@timbatemanentertainment.com
SUMMARY:Stir Crazy Comedy Club\, Glendale AZ
DESCRIPTION:
URL:https://timbatemanentertainment.com/event/stir-crazy-comedy-club-glendale-az-19/
CATEGORIES:Comedy Show
END:VEVENT
BEGIN:VEVENT
DTSTART;TZID=America/Phoenix:20220506T190000
DTEND;TZID=America/Phoenix:20220506T213000
DTSTAMP:20260424T170725
CREATED:20220414T053200Z
LAST-MODIFIED:20220414T053200Z
UID:5686-1651863600-1651872600@timbatemanentertainment.com
SUMMARY:Stir Crazy Comedy Club\, Glendale AZ
DESCRIPTION:
URL:https://timbatemanentertainment.com/event/stir-crazy-comedy-club-glendale-az-17/
CATEGORIES:Comedy Show
END:VEVENT
BEGIN:VEVENT
DTSTART;TZID=America/Phoenix:20220416T190000
DTEND;TZID=America/Phoenix:20220416T213000
DTSTAMP:20260424T170725
CREATED:20220414T052713Z
LAST-MODIFIED:20220414T052713Z
UID:5684-1650135600-1650144600@timbatemanentertainment.com
SUMMARY:CB Live with Alonzo Bodden\, Phoenix AZ
DESCRIPTION:
URL:https://timbatemanentertainment.com/event/cb-live-with-alonzo-bodden-phoenix-az-4/
CATEGORIES:Comedy Show
END:VEVENT
BEGIN:VEVENT
DTSTART;TZID=America/Phoenix:20220415T190000
DTEND;TZID=America/Phoenix:20220415T213000
DTSTAMP:20260424T170725
CREATED:20220414T052347Z
LAST-MODIFIED:20220414T052347Z
UID:5680-1650049200-1650058200@timbatemanentertainment.com
SUMMARY:CB Live with Alonzo Bodden\, Phoenix AZ
DESCRIPTION:
URL:https://timbatemanentertainment.com/event/cb-live-with-alonzo-bodden-phoenix-az-2/
CATEGORIES:Comedy Show
END:VEVENT
BEGIN:VEVENT
DTSTART;TZID=America/Phoenix:20220414T193000
DTEND;TZID=America/Phoenix:20220414T193000
DTSTAMP:20260424T170725
CREATED:20220414T052233Z
LAST-MODIFIED:20220414T052233Z
UID:5678-1649964600-1649964600@timbatemanentertainment.com
SUMMARY:CB Live with Alonzo Bodden\, Phoenix AZ
DESCRIPTION:
URL:https://timbatemanentertainment.com/event/cb-live-with-alonzo-bodden-phoenix-az/
CATEGORIES:Comedy Show
END:VEVENT
BEGIN:VEVENT
DTSTART;TZID=America/Phoenix:20211226T080000
DTEND;TZID=America/Phoenix:20220104T170000
DTSTAMP:20260424T170725
CREATED:20211122T144333Z
LAST-MODIFIED:20211122T144333Z
UID:5629-1640505600-1641315600@timbatemanentertainment.com
SUMMARY:Enchanted Princess - Princess Cruises - Caribbean Itinerary
DESCRIPTION:
URL:https://timbatemanentertainment.com/event/enchanted-princess-princess-cruises-caribbean-itinerary/
CATEGORIES:Comedy Show
END:VEVENT
BEGIN:VEVENT
DTSTART;TZID=America/Phoenix:20211218T080000
DTEND;TZID=America/Phoenix:20211223T170000
DTSTAMP:20260424T170725
CREATED:20210930T230512Z
LAST-MODIFIED:20211122T144636Z
UID:5615-1639814400-1640278800@timbatemanentertainment.com
SUMMARY:Sky Princess - Princess Cruises -  Caribbean Itinerary
DESCRIPTION:
URL:https://timbatemanentertainment.com/event/sky-princess-princess-cruises-eastern-caribbean/
CATEGORIES:Comedy Show
END:VEVENT
BEGIN:VEVENT
DTSTART;TZID=America/Phoenix:20211212T190000
DTEND;TZID=America/Phoenix:20211212T190000
DTSTAMP:20260424T170725
CREATED:20211209T204512Z
LAST-MODIFIED:20211209T204512Z
UID:5644-1639335600-1639335600@timbatemanentertainment.com
SUMMARY:Tempe Improv - with Sklar Brothers\, Tempe AZ
DESCRIPTION:
URL:https://timbatemanentertainment.com/event/tempe-improv-with-sklar-brothers-tempe-az-3/
CATEGORIES:Comedy Show
END:VEVENT
BEGIN:VEVENT
DTSTART;TZID=America/Phoenix:20211211T190000
DTEND;TZID=America/Phoenix:20211211T213000
DTSTAMP:20260424T170725
CREATED:20211209T204640Z
LAST-MODIFIED:20211209T204640Z
UID:5646-1639249200-1639258200@timbatemanentertainment.com
SUMMARY:Tempe Improv - with Sklar Brothers\, Tempe AZ
DESCRIPTION:
URL:https://timbatemanentertainment.com/event/tempe-improv-with-sklar-brothers-tempe-az-4/
CATEGORIES:Comedy Show
END:VEVENT
BEGIN:VEVENT
DTSTART;TZID=America/Phoenix:20211210T190000
DTEND;TZID=America/Phoenix:20211210T214500
DTSTAMP:20260424T170725
CREATED:20211209T204306Z
LAST-MODIFIED:20211209T204306Z
UID:5640-1639162800-1639172700@timbatemanentertainment.com
SUMMARY:Tempe Improv - with Sklar Brothers\, Tempe AZ
DESCRIPTION:
URL:https://timbatemanentertainment.com/event/tempe-improv-with-sklar-brothers-tempe-az/
CATEGORIES:Comedy Show
END:VEVENT
BEGIN:VEVENT
DTSTART;TZID=America/Phoenix:20211204T200000
DTEND;TZID=America/Phoenix:20211204T200000
DTSTAMP:20260424T170725
CREATED:20211202T234921Z
LAST-MODIFIED:20211202T234921Z
UID:5638-1638648000-1638648000@timbatemanentertainment.com
SUMMARY:Mesa Underground Comedy Club\, Mesa AZ
DESCRIPTION:Mesa
URL:https://timbatemanentertainment.com/event/mesa-underground-comedy-club-mesa-az-2/
CATEGORIES:Comedy Show
END:VEVENT
BEGIN:VEVENT
DTSTART;TZID=America/Phoenix:20211203T200000
DTEND;TZID=America/Phoenix:20211203T200000
DTSTAMP:20260424T170725
CREATED:20211202T234830Z
LAST-MODIFIED:20211202T234830Z
UID:5636-1638561600-1638561600@timbatemanentertainment.com
SUMMARY:Mesa Underground Comedy Club\, Mesa AZ
DESCRIPTION:
URL:https://timbatemanentertainment.com/event/mesa-underground-comedy-club-mesa-az/
CATEGORIES:Comedy Show
END:VEVENT
BEGIN:VEVENT
DTSTART;TZID=America/Phoenix:20211111T190000
DTEND;TZID=America/Phoenix:20211111T190000
DTSTAMP:20260424T170725
CREATED:20211102T132013Z
LAST-MODIFIED:20211102T132013Z
UID:5621-1636657200-1636657200@timbatemanentertainment.com
SUMMARY:Elks Theatre - Prescott\, AZ
DESCRIPTION:
URL:https://timbatemanentertainment.com/event/elks-theatre-prescott-az/
CATEGORIES:Comedy Show
END:VEVENT
BEGIN:VEVENT
DTSTART;TZID=America/Phoenix:20210917T190000
DTEND;TZID=America/Phoenix:20210917T190000
DTSTAMP:20260424T170725
CREATED:20210717T221958Z
LAST-MODIFIED:20210717T221958Z
UID:5596-1631905200-1631905200@timbatemanentertainment.com
SUMMARY:Down Time Wines\, Chandler AZ
DESCRIPTION:
URL:https://timbatemanentertainment.com/event/down-time-wines-chandler-az/
CATEGORIES:Comedy Show
END:VEVENT
BEGIN:VEVENT
DTSTART;TZID=America/Phoenix:20210912T160000
DTEND;TZID=America/Phoenix:20210912T160000
DTSTAMP:20260424T170725
CREATED:20210707T230343Z
LAST-MODIFIED:20210707T230343Z
UID:5587-1631462400-1631462400@timbatemanentertainment.com
SUMMARY:AV Comedy Festival\, Lancaster CA
DESCRIPTION:V
URL:https://timbatemanentertainment.com/event/av-comedy-festival-lancaster-ca-2/
CATEGORIES:Comedy Show
END:VEVENT
BEGIN:VEVENT
DTSTART;TZID=America/Phoenix:20210911T140000
DTEND;TZID=America/Phoenix:20210911T140000
DTSTAMP:20260424T170725
CREATED:20210707T230205Z
LAST-MODIFIED:20210707T230205Z
UID:5585-1631368800-1631368800@timbatemanentertainment.com
SUMMARY:AV Comedy Festival\, Lancaster CA
DESCRIPTION:
URL:https://timbatemanentertainment.com/event/av-comedy-festival-lancaster-ca/
CATEGORIES:Comedy Show
END:VEVENT
BEGIN:VEVENT
DTSTART;TZID=America/Phoenix:20210704T190000
DTEND;TZID=America/Phoenix:20210704T190000
DTSTAMP:20260424T170725
CREATED:20210524T193150Z
LAST-MODIFIED:20210524T193150Z
UID:5568-1625425200-1625425200@timbatemanentertainment.com
SUMMARY:Clean Comedy Show - Stir Crazy CC\, Glendale AZ
DESCRIPTION:
URL:https://timbatemanentertainment.com/event/clean-comedy-show-stir-crazy-cc-glendale-az/
CATEGORIES:Comedy Show
END:VEVENT
BEGIN:VEVENT
DTSTART;TZID=America/Phoenix:20210530T190000
DTEND;TZID=America/Phoenix:20210530T190000
DTSTAMP:20260424T170725
CREATED:20210427T184442Z
LAST-MODIFIED:20210525T054415Z
UID:5558-1622401200-1622401200@timbatemanentertainment.com
SUMMARY:Stand Up Live with Bret Ernst\, Phoenix AZ
DESCRIPTION:
URL:https://timbatemanentertainment.com/event/tempe-improv-with-jon-lovitz-tempe-az-2/
CATEGORIES:Comedy Show
END:VEVENT
END:VCALENDAR