BEGIN:VCALENDAR
VERSION:2.0
PRODID:-//Tim Bateman Entertainment - ECPv6.15.20//NONSGML v1.0//EN
CALSCALE:GREGORIAN
METHOD:PUBLISH
X-ORIGINAL-URL:https://timbatemanentertainment.com
X-WR-CALDESC:Events for Tim Bateman Entertainment
REFRESH-INTERVAL;VALUE=DURATION:PT1H
X-Robots-Tag:noindex
X-PUBLISHED-TTL:PT1H
BEGIN:VTIMEZONE
TZID:America/Phoenix
BEGIN:STANDARD
TZOFFSETFROM:-0700
TZOFFSETTO:-0700
TZNAME:MST
DTSTART:20160101T000000
END:STANDARD
END:VTIMEZONE
BEGIN:VEVENT
DTSTART;VALUE=DATE:20171004
DTEND;VALUE=DATE:20171005
DTSTAMP:20260425T211721
CREATED:20170829T160631Z
LAST-MODIFIED:20170829T160631Z
UID:5031-1507075200-1507161599@timbatemanentertainment.com
SUMMARY:Private Event - Gilbert\, AZ - 5.30pm
DESCRIPTION:
URL:https://timbatemanentertainment.com/event/private-event-gilbert-az-5-30pm-2/
CATEGORIES:Comedy Show
END:VEVENT
BEGIN:VEVENT
DTSTART;VALUE=DATE:20170930
DTEND;VALUE=DATE:20171001
DTSTAMP:20260425T211721
CREATED:20170829T160117Z
LAST-MODIFIED:20170829T160117Z
UID:5030-1506729600-1506815999@timbatemanentertainment.com
SUMMARY:Private Event - Welcome Home Party - Phoenix\, AZ - 7.30pm
DESCRIPTION:
URL:https://timbatemanentertainment.com/event/private-event-welcome-home-party-phoenix-az-7-30pm-2/
CATEGORIES:Comedy Show
END:VEVENT
BEGIN:VEVENT
DTSTART;VALUE=DATE:20170930
DTEND;VALUE=DATE:20171001
DTSTAMP:20260425T211721
CREATED:20170829T160117Z
LAST-MODIFIED:20170829T160117Z
UID:4441-1506729600-1506815999@timbatemanentertainment.com
SUMMARY:Private Event - Welcome Home Party - Phoenix\, AZ - 7.30pm
DESCRIPTION:
URL:https://timbatemanentertainment.com/event/private-event-welcome-home-party-phoenix-az-7-30pm/
CATEGORIES:Comedy Show
END:VEVENT
BEGIN:VEVENT
DTSTART;VALUE=DATE:20170916
DTEND;VALUE=DATE:20170917
DTSTAMP:20260425T211721
CREATED:20170829T155740Z
LAST-MODIFIED:20170829T155740Z
UID:4438-1505520000-1505606399@timbatemanentertainment.com
SUMMARY:Stir Crazy Comedy Club\, Glendale\, AZ - 7.00pm & 9.30pm
DESCRIPTION:
URL:https://timbatemanentertainment.com/event/stir-crazy-comedy-club-glendale-az-7-00pm-9-30pm-2/
CATEGORIES:Comedy Show
END:VEVENT
BEGIN:VEVENT
DTSTART;VALUE=DATE:20170916
DTEND;VALUE=DATE:20170917
DTSTAMP:20260425T211721
CREATED:20170829T155740Z
LAST-MODIFIED:20170829T155740Z
UID:5029-1505520000-1505606399@timbatemanentertainment.com
SUMMARY:Stir Crazy Comedy Club\, Glendale\, AZ - 7.00pm & 9.30pm
DESCRIPTION:
URL:https://timbatemanentertainment.com/event/stir-crazy-comedy-club-glendale-az-7-00pm-9-30pm-2-2/
CATEGORIES:Comedy Show
END:VEVENT
BEGIN:VEVENT
DTSTART;VALUE=DATE:20170915
DTEND;VALUE=DATE:20170916
DTSTAMP:20260425T211721
CREATED:20170829T155707Z
LAST-MODIFIED:20170829T155707Z
UID:5028-1505433600-1505519999@timbatemanentertainment.com
SUMMARY:Stir Crazy Comedy Club\, Glendale\, AZ - 7.00pm & 9.30pm
DESCRIPTION:
URL:https://timbatemanentertainment.com/event/stir-crazy-comedy-club-glendale-az-7-00pm-9-30pm-5/
CATEGORIES:Comedy Show
END:VEVENT
BEGIN:VEVENT
DTSTART;VALUE=DATE:20170915
DTEND;VALUE=DATE:20170916
DTSTAMP:20260425T211721
CREATED:20170829T155707Z
LAST-MODIFIED:20170829T155707Z
UID:4436-1505433600-1505519999@timbatemanentertainment.com
SUMMARY:Stir Crazy Comedy Club\, Glendale\, AZ - 7.00pm & 9.30pm
DESCRIPTION:
URL:https://timbatemanentertainment.com/event/stir-crazy-comedy-club-glendale-az-7-00pm-9-30pm/
CATEGORIES:Comedy Show
END:VEVENT
BEGIN:VEVENT
DTSTART;VALUE=DATE:20170914
DTEND;VALUE=DATE:20170915
DTSTAMP:20260425T211721
CREATED:20170829T155624Z
LAST-MODIFIED:20170829T155624Z
UID:5027-1505347200-1505433599@timbatemanentertainment.com
SUMMARY:Stir Crazy Comedy Club\, Glendale\, AZ - 7.00pm
DESCRIPTION:
URL:https://timbatemanentertainment.com/event/stir-crazy-comedy-club-glendale-az-7-00pm-2-2/
CATEGORIES:Comedy Show
END:VEVENT
BEGIN:VEVENT
DTSTART;VALUE=DATE:20170914
DTEND;VALUE=DATE:20170915
DTSTAMP:20260425T211721
CREATED:20170829T155624Z
LAST-MODIFIED:20170829T155624Z
UID:4434-1505347200-1505433599@timbatemanentertainment.com
SUMMARY:Stir Crazy Comedy Club\, Glendale\, AZ - 7.00pm
DESCRIPTION:
URL:https://timbatemanentertainment.com/event/stir-crazy-comedy-club-glendale-az-7-00pm-2/
CATEGORIES:Comedy Show
END:VEVENT
BEGIN:VEVENT
DTSTART;TZID=America/Phoenix:20170913T200000
DTEND;TZID=America/Phoenix:20170913T200000
DTSTAMP:20260425T211721
CREATED:20170912T214646Z
LAST-MODIFIED:20170912T214646Z
UID:4500-1505332800-1505332800@timbatemanentertainment.com
SUMMARY:Laughter at The Lounge\, Phoenix\, AZ.
DESCRIPTION:
URL:https://timbatemanentertainment.com/event/laughter-at-the-lounge-phoenix-az/
CATEGORIES:Comedy Show
END:VEVENT
BEGIN:VEVENT
DTSTART;TZID=America/Phoenix:20170913T200000
DTEND;TZID=America/Phoenix:20170913T200000
DTSTAMP:20260425T211721
CREATED:20170912T214646Z
LAST-MODIFIED:20170912T214646Z
UID:5043-1505332800-1505332800@timbatemanentertainment.com
SUMMARY:Laughter at The Lounge\, Phoenix\, AZ.
DESCRIPTION:
URL:https://timbatemanentertainment.com/event/laughter-at-the-lounge-phoenix-az-2/
CATEGORIES:Comedy Show
END:VEVENT
BEGIN:VEVENT
DTSTART;TZID=America/Phoenix:20170907T203000
DTEND;TZID=America/Phoenix:20170907T203000
DTSTAMP:20260425T211721
CREATED:20170907T144322Z
LAST-MODIFIED:20170907T144322Z
UID:4493-1504816200-1504816200@timbatemanentertainment.com
SUMMARY:LMAO Phoenix\, Phoenix AZ
DESCRIPTION:
URL:https://timbatemanentertainment.com/event/lmao-phoenix-phoenix-az/
CATEGORIES:Comedy Show
END:VEVENT
BEGIN:VEVENT
DTSTART;TZID=America/Phoenix:20170907T203000
DTEND;TZID=America/Phoenix:20170907T203000
DTSTAMP:20260425T211721
CREATED:20170907T144322Z
LAST-MODIFIED:20170907T144322Z
UID:5042-1504816200-1504816200@timbatemanentertainment.com
SUMMARY:LMAO Phoenix\, Phoenix AZ
DESCRIPTION:
URL:https://timbatemanentertainment.com/event/lmao-phoenix-phoenix-az-2/
CATEGORIES:Comedy Show
END:VEVENT
BEGIN:VEVENT
DTSTART;VALUE=DATE:20170907
DTEND;VALUE=DATE:20170908
DTSTAMP:20260425T211721
CREATED:20170829T155331Z
LAST-MODIFIED:20170829T155331Z
UID:4430-1504742400-1504828799@timbatemanentertainment.com
SUMMARY:Private Event - SRP - Tempe\, AZ - 12 Noon
DESCRIPTION:
URL:https://timbatemanentertainment.com/event/private-event-srp-tempe-az-12-noon/
CATEGORIES:Comedy Show
END:VEVENT
BEGIN:VEVENT
DTSTART;VALUE=DATE:20170907
DTEND;VALUE=DATE:20170908
DTSTAMP:20260425T211721
CREATED:20170829T155331Z
LAST-MODIFIED:20170829T155331Z
UID:5026-1504742400-1504828799@timbatemanentertainment.com
SUMMARY:Private Event - SRP - Tempe\, AZ - 12 Noon
DESCRIPTION:
URL:https://timbatemanentertainment.com/event/private-event-srp-tempe-az-12-noon-2/
CATEGORIES:Comedy Show
END:VEVENT
BEGIN:VEVENT
DTSTART;VALUE=DATE:20170903
DTEND;VALUE=DATE:20170904
DTSTAMP:20260425T211721
CREATED:20170829T155146Z
LAST-MODIFIED:20170829T155146Z
UID:4428-1504396800-1504483199@timbatemanentertainment.com
SUMMARY:House of Comedy\, Phoenix\, AZ - 7.00pm
DESCRIPTION:
URL:https://timbatemanentertainment.com/event/house-of-comedy-phoenix-az-7-00pm/
CATEGORIES:Comedy Show
END:VEVENT
BEGIN:VEVENT
DTSTART;VALUE=DATE:20170903
DTEND;VALUE=DATE:20170904
DTSTAMP:20260425T211721
CREATED:20170829T155146Z
LAST-MODIFIED:20170829T155146Z
UID:5025-1504396800-1504483199@timbatemanentertainment.com
SUMMARY:House of Comedy\, Phoenix\, AZ - 7.00pm
DESCRIPTION:
URL:https://timbatemanentertainment.com/event/house-of-comedy-phoenix-az-7-00pm-2/
CATEGORIES:Comedy Show
END:VEVENT
BEGIN:VEVENT
DTSTART;VALUE=DATE:20170902
DTEND;VALUE=DATE:20170903
DTSTAMP:20260425T211721
CREATED:20170829T155054Z
LAST-MODIFIED:20170829T155054Z
UID:5024-1504310400-1504396799@timbatemanentertainment.com
SUMMARY:House of Comedy\, Phoenix\, AZ - 7.00pm & 9.30pm
DESCRIPTION:
URL:https://timbatemanentertainment.com/event/house-of-comedy-phoenix-az-7-00pm-9-30pm-2/
CATEGORIES:Comedy Show
END:VEVENT
BEGIN:VEVENT
DTSTART;VALUE=DATE:20170902
DTEND;VALUE=DATE:20170903
DTSTAMP:20260425T211721
CREATED:20170829T155054Z
LAST-MODIFIED:20170829T155054Z
UID:4426-1504310400-1504396799@timbatemanentertainment.com
SUMMARY:House of Comedy\, Phoenix\, AZ - 7.00pm & 9.30pm
DESCRIPTION:
URL:https://timbatemanentertainment.com/event/house-of-comedy-phoenix-az-7-00pm-9-30pm/
CATEGORIES:Comedy Show
END:VEVENT
BEGIN:VEVENT
DTSTART;VALUE=DATE:20170901
DTEND;VALUE=DATE:20170902
DTSTAMP:20260425T211721
CREATED:20170829T154948Z
LAST-MODIFIED:20170829T154948Z
UID:4424-1504224000-1504310399@timbatemanentertainment.com
SUMMARY:House of Comedy\, Phoenix\, AZ - 7.30pm & 9.45pm
DESCRIPTION:
URL:https://timbatemanentertainment.com/event/house-of-comedy-phoenix-az-7-30pm-9-45pm/
CATEGORIES:Comedy Show
END:VEVENT
BEGIN:VEVENT
DTSTART;VALUE=DATE:20170901
DTEND;VALUE=DATE:20170902
DTSTAMP:20260425T211721
CREATED:20170829T154948Z
LAST-MODIFIED:20170829T154948Z
UID:5023-1504224000-1504310399@timbatemanentertainment.com
SUMMARY:House of Comedy\, Phoenix\, AZ - 7.30pm & 9.45pm
DESCRIPTION:
URL:https://timbatemanentertainment.com/event/house-of-comedy-phoenix-az-7-30pm-9-45pm-2/
CATEGORIES:Comedy Show
END:VEVENT
BEGIN:VEVENT
DTSTART;VALUE=DATE:20170831
DTEND;VALUE=DATE:20170901
DTSTAMP:20260425T211721
CREATED:20170829T153834Z
LAST-MODIFIED:20170829T153834Z
UID:5021-1504137600-1504223999@timbatemanentertainment.com
SUMMARY:House of Comedy\, Phoenix\, AZ - 7.30pm
DESCRIPTION:Wednesday August 30th
URL:https://timbatemanentertainment.com/event/house-of-comedy-phoenix-az-7-30pm-3/
CATEGORIES:Comedy Show
END:VEVENT
BEGIN:VEVENT
DTSTART;VALUE=DATE:20170831
DTEND;VALUE=DATE:20170901
DTSTAMP:20260425T211721
CREATED:20170829T153834Z
LAST-MODIFIED:20170829T153834Z
UID:4419-1504137600-1504223999@timbatemanentertainment.com
SUMMARY:House of Comedy\, Phoenix\, AZ - 7.30pm
DESCRIPTION:Wednesday August 30th
URL:https://timbatemanentertainment.com/event/house-of-comedy-phoenix-az-7-30pm/
CATEGORIES:Comedy Show
END:VEVENT
BEGIN:VEVENT
DTSTART;VALUE=DATE:20170830
DTEND;VALUE=DATE:20170831
DTSTAMP:20260425T211721
CREATED:20170829T154724Z
LAST-MODIFIED:20170829T154724Z
UID:4422-1504051200-1504137599@timbatemanentertainment.com
SUMMARY:House of Comedy\, Phoenix\, AZ - 7.30pm
DESCRIPTION:
URL:https://timbatemanentertainment.com/event/house-of-comedy-phoenix-az-7-30pm-2/
CATEGORIES:Comedy Show
END:VEVENT
BEGIN:VEVENT
DTSTART;VALUE=DATE:20170830
DTEND;VALUE=DATE:20170831
DTSTAMP:20260425T211721
CREATED:20170829T154724Z
LAST-MODIFIED:20170829T154724Z
UID:5022-1504051200-1504137599@timbatemanentertainment.com
SUMMARY:House of Comedy\, Phoenix\, AZ - 7.30pm
DESCRIPTION:
URL:https://timbatemanentertainment.com/event/house-of-comedy-phoenix-az-7-30pm-2-2/
CATEGORIES:Comedy Show
END:VEVENT
BEGIN:VEVENT
DTSTART;VALUE=DATE:20170805
DTEND;VALUE=DATE:20170806
DTSTAMP:20260425T211721
CREATED:20170725T043649Z
LAST-MODIFIED:20170725T043649Z
UID:3940-1501891200-1501977599@timbatemanentertainment.com
SUMMARY:Bay Bridge Brewing - San Diego\, CA.  8:00
DESCRIPTION:Tim Bateman with Lisa Gilbert\, Gabe Wakow\, Quentin Hill\, Al Gavi and Maria Herman
URL:https://timbatemanentertainment.com/event/bay-bridge-brewing-san-diego-ca/
LOCATION:Bay Bridge Brewing Company\, 688 Marsat Ct\, Chula Vista\, CA\, 91911\, United States
CATEGORIES:Comedy Show
END:VEVENT
BEGIN:VEVENT
DTSTART;VALUE=DATE:20170805
DTEND;VALUE=DATE:20170806
DTSTAMP:20260425T211721
CREATED:20170725T043649Z
LAST-MODIFIED:20170725T043649Z
UID:5019-1501891200-1501977599@timbatemanentertainment.com
SUMMARY:Bay Bridge Brewing - San Diego\, CA.  8:00
DESCRIPTION:Tim Bateman with Lisa Gilbert\, Gabe Wakow\, Quentin Hill\, Al Gavi and Maria Herman
URL:https://timbatemanentertainment.com/event/bay-bridge-brewing-san-diego-ca-2/
LOCATION:Bay Bridge Brewing Company\, 688 Marsat Ct\, Chula Vista\, CA\, 91911\, United States
CATEGORIES:Comedy Show
END:VEVENT
BEGIN:VEVENT
DTSTART;VALUE=DATE:20170804
DTEND;VALUE=DATE:20170805
DTSTAMP:20260425T211721
CREATED:20170725T044109Z
LAST-MODIFIED:20170725T044109Z
UID:5020-1501804800-1501891199@timbatemanentertainment.com
SUMMARY:Comedy Heights - San Diego\, CA.  7:00 pm
DESCRIPTION:Producers Al Gavi and Maria Herman bring you NO COVER COMEDY every Saturday Night. A 90 minute clean comedy show combining International headliners and local favorites with fresh faces every week. Doors Open 730pm. BYO snacks & beverages. Coffee & pastries available from Twiggs Coffeehouse next door. Give yourself enough time to find a parking spot. Ages 12+ welcome.
URL:https://timbatemanentertainment.com/event/comedy-heights-san-diego-ca-3/
LOCATION:Comedy Heights\, 4590 Park Blvd\, San Diego\, CA\, 92116\, United States
CATEGORIES:Comedy Show
END:VEVENT
BEGIN:VEVENT
DTSTART;VALUE=DATE:20170804
DTEND;VALUE=DATE:20170805
DTSTAMP:20260425T211721
CREATED:20170725T044109Z
LAST-MODIFIED:20170725T044109Z
UID:3944-1501804800-1501891199@timbatemanentertainment.com
SUMMARY:Comedy Heights - San Diego\, CA.  7:00 pm
DESCRIPTION:Producers Al Gavi and Maria Herman bring you NO COVER COMEDY every Saturday Night. A 90 minute clean comedy show combining International headliners and local favorites with fresh faces every week. Doors Open 730pm. BYO snacks & beverages. Coffee & pastries available from Twiggs Coffeehouse next door. Give yourself enough time to find a parking spot. Ages 12+ welcome.
URL:https://timbatemanentertainment.com/event/comedy-heights-san-diego-ca/
LOCATION:Comedy Heights\, 4590 Park Blvd\, San Diego\, CA\, 92116\, United States
CATEGORIES:Comedy Show
END:VEVENT
END:VCALENDAR