BEGIN:VCALENDAR
VERSION:2.0
PRODID:-//Tim Bateman Entertainment - ECPv6.15.20//NONSGML v1.0//EN
CALSCALE:GREGORIAN
METHOD:PUBLISH
X-ORIGINAL-URL:https://timbatemanentertainment.com
X-WR-CALDESC:Events for Tim Bateman Entertainment
REFRESH-INTERVAL;VALUE=DURATION:PT1H
X-Robots-Tag:noindex
X-PUBLISHED-TTL:PT1H
BEGIN:VTIMEZONE
TZID:America/Phoenix
BEGIN:STANDARD
TZOFFSETFROM:-0700
TZOFFSETTO:-0700
TZNAME:MST
DTSTART:20160101T000000
END:STANDARD
END:VTIMEZONE
BEGIN:VEVENT
DTSTART;TZID=America/Phoenix:20180108T210000
DTEND;TZID=America/Phoenix:20180108T210000
DTSTAMP:20260425T163323
CREATED:20171231T145710Z
LAST-MODIFIED:20171231T145710Z
UID:5060-1515445200-1515445200@timbatemanentertainment.com
SUMMARY:Devil's Advocate - Tempe\, AZ
DESCRIPTION:
URL:https://timbatemanentertainment.com/event/devils-advocate-tempe-az-2/
CATEGORIES:Comedy Show
END:VEVENT
BEGIN:VEVENT
DTSTART;TZID=America/Phoenix:20180106T190000
DTEND;TZID=America/Phoenix:20180106T213000
DTSTAMP:20260425T163323
CREATED:20180105T184736Z
LAST-MODIFIED:20180105T184736Z
UID:5062-1515265200-1515274200@timbatemanentertainment.com
SUMMARY:Stir Crazy CC\, Glendale AZ.
DESCRIPTION:
URL:https://timbatemanentertainment.com/event/stir-crazy-cc-glendale-az-7pm-and-9-30pm-2-2/
CATEGORIES:Comedy Show
END:VEVENT
BEGIN:VEVENT
DTSTART;TZID=America/Phoenix:20180106T190000
DTEND;TZID=America/Phoenix:20180106T213000
DTSTAMP:20260425T163323
CREATED:20180105T184736Z
LAST-MODIFIED:20180105T184736Z
UID:4573-1515265200-1515274200@timbatemanentertainment.com
SUMMARY:Stir Crazy CC\, Glendale AZ.
DESCRIPTION:
URL:https://timbatemanentertainment.com/event/stir-crazy-cc-glendale-az-7pm-and-9-30pm-2/
CATEGORIES:Comedy Show
END:VEVENT
BEGIN:VEVENT
DTSTART;TZID=America/Phoenix:20180105T190000
DTEND;TZID=America/Phoenix:20180105T213000
DTSTAMP:20260425T163323
CREATED:20180105T185504Z
LAST-MODIFIED:20180105T185504Z
UID:5063-1515178800-1515187800@timbatemanentertainment.com
SUMMARY:Stir Crazy CC\, Glendale AZ.
DESCRIPTION:
URL:https://timbatemanentertainment.com/event/stir-crazy-cc-glendale-az-2/
CATEGORIES:Comedy Show
END:VEVENT
BEGIN:VEVENT
DTSTART;TZID=America/Phoenix:20180105T190000
DTEND;TZID=America/Phoenix:20180105T213000
DTSTAMP:20260425T163323
CREATED:20180105T185504Z
LAST-MODIFIED:20180105T185504Z
UID:4576-1515178800-1515187800@timbatemanentertainment.com
SUMMARY:Stir Crazy CC\, Glendale AZ.
DESCRIPTION:
URL:https://timbatemanentertainment.com/event/stir-crazy-cc-glendale-az/
CATEGORIES:Comedy Show
END:VEVENT
BEGIN:VEVENT
DTSTART;TZID=America/Phoenix:20180105T000000
DTEND;TZID=America/Phoenix:20180105T000000
DTSTAMP:20260425T163323
CREATED:20180105T184637Z
LAST-MODIFIED:20180105T184637Z
UID:4571-1515110400-1515110400@timbatemanentertainment.com
SUMMARY:Stir Crazy CC - Glendale AZ - 7pm and 9.30pm
DESCRIPTION:
URL:https://timbatemanentertainment.com/event/stir-crazy-cc-glendale-az-7pm-and-9-30pm/
CATEGORIES:Comedy Show
END:VEVENT
BEGIN:VEVENT
DTSTART;TZID=America/Phoenix:20180105T000000
DTEND;TZID=America/Phoenix:20180105T000000
DTSTAMP:20260425T163323
CREATED:20180105T184637Z
LAST-MODIFIED:20180105T184637Z
UID:5061-1515110400-1515110400@timbatemanentertainment.com
SUMMARY:Stir Crazy CC - Glendale AZ - 7pm and 9.30pm
DESCRIPTION:
URL:https://timbatemanentertainment.com/event/stir-crazy-cc-glendale-az-7pm-and-9-30pm-3/
CATEGORIES:Comedy Show
END:VEVENT
BEGIN:VEVENT
DTSTART;TZID=America/Phoenix:20180103T200000
DTEND;TZID=America/Phoenix:20180103T200000
DTSTAMP:20260425T163323
CREATED:20171228T230405Z
LAST-MODIFIED:20171228T230405Z
UID:5059-1515009600-1515009600@timbatemanentertainment.com
SUMMARY:The Lounge - Phoenix\, AZ.
DESCRIPTION:
URL:https://timbatemanentertainment.com/event/the-lounge-phoenix-az-4/
CATEGORIES:Comedy Show
END:VEVENT
BEGIN:VEVENT
DTSTART;TZID=America/Phoenix:20180103T200000
DTEND;TZID=America/Phoenix:20180103T200000
DTSTAMP:20260425T163323
CREATED:20171228T230405Z
LAST-MODIFIED:20171228T230405Z
UID:4566-1515009600-1515009600@timbatemanentertainment.com
SUMMARY:The Lounge - Phoenix\, AZ.
DESCRIPTION:
URL:https://timbatemanentertainment.com/event/the-lounge-phoenix-az/
CATEGORIES:Comedy Show
END:VEVENT
BEGIN:VEVENT
DTSTART;TZID=America/Phoenix:20171228T193000
DTEND;TZID=America/Phoenix:20171228T193000
DTSTAMP:20260425T163323
CREATED:20171228T230312Z
LAST-MODIFIED:20171228T230312Z
UID:4564-1514489400-1514489400@timbatemanentertainment.com
SUMMARY:Third Space - Phoenix\, AZ
DESCRIPTION:
URL:https://timbatemanentertainment.com/event/third-space-phoenix-az/
CATEGORIES:Comedy Show
END:VEVENT
BEGIN:VEVENT
DTSTART;TZID=America/Phoenix:20171228T193000
DTEND;TZID=America/Phoenix:20171228T193000
DTSTAMP:20260425T163323
CREATED:20171228T230312Z
LAST-MODIFIED:20171228T230312Z
UID:5058-1514489400-1514489400@timbatemanentertainment.com
SUMMARY:Third Space - Phoenix\, AZ
DESCRIPTION:
URL:https://timbatemanentertainment.com/event/third-space-phoenix-az-3/
CATEGORIES:Comedy Show
END:VEVENT
BEGIN:VEVENT
DTSTART;VALUE=DATE:20171209
DTEND;VALUE=DATE:20171210
DTSTAMP:20260425T163323
CREATED:20170829T161503Z
LAST-MODIFIED:20170829T161503Z
UID:4457-1512777600-1512863999@timbatemanentertainment.com
SUMMARY:Private Event - Vineyard Community Church\, Gilbert\, AZ - 8.00pm
DESCRIPTION:
URL:https://timbatemanentertainment.com/event/private-event-vineyard-community-church-gilbert-az-8-00pm/
CATEGORIES:Comedy Show
END:VEVENT
BEGIN:VEVENT
DTSTART;VALUE=DATE:20171209
DTEND;VALUE=DATE:20171210
DTSTAMP:20260425T163323
CREATED:20170829T161503Z
LAST-MODIFIED:20170829T161503Z
UID:5038-1512777600-1512863999@timbatemanentertainment.com
SUMMARY:Private Event - Vineyard Community Church\, Gilbert\, AZ - 8.00pm
DESCRIPTION:
URL:https://timbatemanentertainment.com/event/private-event-vineyard-community-church-gilbert-az-8-00pm-2/
CATEGORIES:Comedy Show
END:VEVENT
BEGIN:VEVENT
DTSTART;TZID=America/Phoenix:20171124T200000
DTEND;TZID=America/Phoenix:20171124T200000
DTSTAMP:20260425T163323
CREATED:20170829T161338Z
LAST-MODIFIED:20170829T161338Z
UID:4455-1511553600-1511553600@timbatemanentertainment.com
SUMMARY:Rum Runners\, Phoenix\, AZ - 8.00pm
DESCRIPTION:
URL:https://timbatemanentertainment.com/event/rum-runners-phoenix-az-8-00pm/
CATEGORIES:Comedy Show
END:VEVENT
BEGIN:VEVENT
DTSTART;TZID=America/Phoenix:20171124T200000
DTEND;TZID=America/Phoenix:20171124T200000
DTSTAMP:20260425T163323
CREATED:20170829T161338Z
LAST-MODIFIED:20170829T161338Z
UID:5037-1511553600-1511553600@timbatemanentertainment.com
SUMMARY:Rum Runners\, Phoenix\, AZ - 8.00pm
DESCRIPTION:
URL:https://timbatemanentertainment.com/event/rum-runners-phoenix-az-8-00pm-2/
CATEGORIES:Comedy Show
END:VEVENT
BEGIN:VEVENT
DTSTART;VALUE=DATE:20171112
DTEND;VALUE=DATE:20171113
DTSTAMP:20260425T163323
CREATED:20170829T161233Z
LAST-MODIFIED:20170829T161233Z
UID:4453-1510444800-1510531199@timbatemanentertainment.com
SUMMARY:Stir Crazy Comedy Club\, Glendale\, AZ - 7.00pm
DESCRIPTION:
URL:https://timbatemanentertainment.com/event/stir-crazy-comedy-club-glendale-az-7-00pm-3/
CATEGORIES:Comedy Show
END:VEVENT
BEGIN:VEVENT
DTSTART;VALUE=DATE:20171112
DTEND;VALUE=DATE:20171113
DTSTAMP:20260425T163323
CREATED:20170829T161233Z
LAST-MODIFIED:20170829T161233Z
UID:5036-1510444800-1510531199@timbatemanentertainment.com
SUMMARY:Stir Crazy Comedy Club\, Glendale\, AZ - 7.00pm
DESCRIPTION:
URL:https://timbatemanentertainment.com/event/stir-crazy-comedy-club-glendale-az-7-00pm-3-2/
CATEGORIES:Comedy Show
END:VEVENT
BEGIN:VEVENT
DTSTART;VALUE=DATE:20171111
DTEND;VALUE=DATE:20171112
DTSTAMP:20260425T163323
CREATED:20170829T161157Z
LAST-MODIFIED:20170829T161157Z
UID:5035-1510358400-1510444799@timbatemanentertainment.com
SUMMARY:Stir Crazy Comedy Club\, Glendale\, AZ - 7.00pm & 9.30pm
DESCRIPTION:
URL:https://timbatemanentertainment.com/event/stir-crazy-comedy-club-glendale-az-7-00pm-9-30pm-4-2/
CATEGORIES:Comedy Show
END:VEVENT
BEGIN:VEVENT
DTSTART;VALUE=DATE:20171111
DTEND;VALUE=DATE:20171112
DTSTAMP:20260425T163323
CREATED:20170829T161157Z
LAST-MODIFIED:20170829T161157Z
UID:4451-1510358400-1510444799@timbatemanentertainment.com
SUMMARY:Stir Crazy Comedy Club\, Glendale\, AZ - 7.00pm & 9.30pm
DESCRIPTION:
URL:https://timbatemanentertainment.com/event/stir-crazy-comedy-club-glendale-az-7-00pm-9-30pm-4/
CATEGORIES:Comedy Show
END:VEVENT
BEGIN:VEVENT
DTSTART;VALUE=DATE:20171110
DTEND;VALUE=DATE:20171111
DTSTAMP:20260425T163323
CREATED:20170829T161119Z
LAST-MODIFIED:20170829T161119Z
UID:5034-1510272000-1510358399@timbatemanentertainment.com
SUMMARY:Stir Crazy Comedy Club\, Glendale\, AZ - 7.00pm & 9.30pm
DESCRIPTION:
URL:https://timbatemanentertainment.com/event/stir-crazy-comedy-club-glendale-az-7-00pm-9-30pm-3-2/
CATEGORIES:Comedy Show
END:VEVENT
BEGIN:VEVENT
DTSTART;VALUE=DATE:20171110
DTEND;VALUE=DATE:20171111
DTSTAMP:20260425T163323
CREATED:20170829T161119Z
LAST-MODIFIED:20170829T161119Z
UID:4449-1510272000-1510358399@timbatemanentertainment.com
SUMMARY:Stir Crazy Comedy Club\, Glendale\, AZ - 7.00pm & 9.30pm
DESCRIPTION:
URL:https://timbatemanentertainment.com/event/stir-crazy-comedy-club-glendale-az-7-00pm-9-30pm-3/
CATEGORIES:Comedy Show
END:VEVENT
BEGIN:VEVENT
DTSTART;TZID=America/Phoenix:20171018T200000
DTEND;TZID=America/Phoenix:20171018T200000
DTSTAMP:20260425T163323
CREATED:20171014T213950Z
LAST-MODIFIED:20171014T213950Z
UID:4519-1508356800-1508356800@timbatemanentertainment.com
SUMMARY:American Legion Post 105\, Phoenix\, AZ
DESCRIPTION:
URL:https://timbatemanentertainment.com/event/american-legion-post-105-phoenix-az-2/
CATEGORIES:Comedy Show
END:VEVENT
BEGIN:VEVENT
DTSTART;TZID=America/Phoenix:20171018T200000
DTEND;TZID=America/Phoenix:20171018T200000
DTSTAMP:20260425T163323
CREATED:20171014T213950Z
LAST-MODIFIED:20171014T213950Z
UID:5046-1508356800-1508356800@timbatemanentertainment.com
SUMMARY:American Legion Post 105\, Phoenix\, AZ
DESCRIPTION:
URL:https://timbatemanentertainment.com/event/american-legion-post-105-phoenix-az-2-2/
CATEGORIES:Comedy Show
END:VEVENT
BEGIN:VEVENT
DTSTART;VALUE=DATE:20171015
DTEND;VALUE=DATE:20171016
DTSTAMP:20260425T163323
CREATED:20170829T160849Z
LAST-MODIFIED:20170829T160849Z
UID:5033-1508025600-1508111999@timbatemanentertainment.com
SUMMARY:Wild Horse Pass Casino \, Phoenix\, AZ - 4.30pm
DESCRIPTION:
URL:https://timbatemanentertainment.com/event/wild-horse-pass-casino-phoenix-az-7-30pm-2/
CATEGORIES:Comedy Show
END:VEVENT
BEGIN:VEVENT
DTSTART;VALUE=DATE:20171015
DTEND;VALUE=DATE:20171016
DTSTAMP:20260425T163323
CREATED:20170829T160849Z
LAST-MODIFIED:20170829T160849Z
UID:4447-1508025600-1508111999@timbatemanentertainment.com
SUMMARY:Wild Horse Pass Casino \, Phoenix\, AZ - 4.30pm
DESCRIPTION:
URL:https://timbatemanentertainment.com/event/wild-horse-pass-casino-phoenix-az-7-30pm/
CATEGORIES:Comedy Show
END:VEVENT
BEGIN:VEVENT
DTSTART;TZID=America/Phoenix:20171007T220000
DTEND;TZID=America/Phoenix:20171007T220000
DTSTAMP:20260425T163323
CREATED:20170913T213717Z
LAST-MODIFIED:20170913T213717Z
UID:4504-1507413600-1507413600@timbatemanentertainment.com
SUMMARY:ImprovMANIA\, Chandler AZ
DESCRIPTION:250 S Arizona Ave\, Chandler
URL:https://timbatemanentertainment.com/event/improvmania-chandler-az/
CATEGORIES:Comedy Show
END:VEVENT
BEGIN:VEVENT
DTSTART;TZID=America/Phoenix:20171007T220000
DTEND;TZID=America/Phoenix:20171007T220000
DTSTAMP:20260425T163323
CREATED:20170913T213717Z
LAST-MODIFIED:20170913T213717Z
UID:5045-1507413600-1507413600@timbatemanentertainment.com
SUMMARY:ImprovMANIA\, Chandler AZ
DESCRIPTION:250 S Arizona Ave\, Chandler
URL:https://timbatemanentertainment.com/event/improvmania-chandler-az-2/
CATEGORIES:Comedy Show
END:VEVENT
BEGIN:VEVENT
DTSTART;VALUE=DATE:20171007
DTEND;VALUE=DATE:20171008
DTSTAMP:20260425T163323
CREATED:20170829T160731Z
LAST-MODIFIED:20170829T160731Z
UID:4445-1507334400-1507420799@timbatemanentertainment.com
SUMMARY:Private Event - Gilbert\, AZ - 4.00pm
DESCRIPTION:
URL:https://timbatemanentertainment.com/event/private-event-gilbert-az-4-00pm/
CATEGORIES:Comedy Show
END:VEVENT
BEGIN:VEVENT
DTSTART;VALUE=DATE:20171007
DTEND;VALUE=DATE:20171008
DTSTAMP:20260425T163323
CREATED:20170829T160731Z
LAST-MODIFIED:20170829T160731Z
UID:5032-1507334400-1507420799@timbatemanentertainment.com
SUMMARY:Private Event - Gilbert\, AZ - 4.00pm
DESCRIPTION:
URL:https://timbatemanentertainment.com/event/private-event-gilbert-az-4-00pm-2/
CATEGORIES:Comedy Show
END:VEVENT
BEGIN:VEVENT
DTSTART;VALUE=DATE:20171004
DTEND;VALUE=DATE:20171005
DTSTAMP:20260425T163323
CREATED:20170829T160631Z
LAST-MODIFIED:20170829T160631Z
UID:4443-1507075200-1507161599@timbatemanentertainment.com
SUMMARY:Private Event - Gilbert\, AZ - 5.30pm
DESCRIPTION:
URL:https://timbatemanentertainment.com/event/private-event-gilbert-az-5-30pm/
CATEGORIES:Comedy Show
END:VEVENT
END:VCALENDAR