BEGIN:VCALENDAR
VERSION:2.0
PRODID:-//Tim Bateman Entertainment - ECPv6.15.20//NONSGML v1.0//EN
CALSCALE:GREGORIAN
METHOD:PUBLISH
X-WR-CALNAME:Tim Bateman Entertainment
X-ORIGINAL-URL:https://timbatemanentertainment.com
X-WR-CALDESC:Events for Tim Bateman Entertainment
REFRESH-INTERVAL;VALUE=DURATION:PT1H
X-Robots-Tag:noindex
X-PUBLISHED-TTL:PT1H
BEGIN:VTIMEZONE
TZID:America/Phoenix
BEGIN:STANDARD
TZOFFSETFROM:-0700
TZOFFSETTO:-0700
TZNAME:MST
DTSTART:20160101T000000
END:STANDARD
END:VTIMEZONE
BEGIN:VEVENT
DTSTART;TZID=America/Phoenix:20180308T200000
DTEND;TZID=America/Phoenix:20180308T200000
DTSTAMP:20260425T130738
CREATED:20180115T150926Z
LAST-MODIFIED:20180115T150926Z
UID:5069-1520539200-1520539200@timbatemanentertainment.com
SUMMARY:Third Space\, Phoenix\, AZ.
DESCRIPTION:
URL:https://timbatemanentertainment.com/event/third-space-phoenix-az-2-2/
CATEGORIES:Comedy Show
END:VEVENT
BEGIN:VEVENT
DTSTART;TZID=America/Phoenix:20180304T193000
DTEND;TZID=America/Phoenix:20180304T193000
DTSTAMP:20260425T130738
CREATED:20180302T222038Z
LAST-MODIFIED:20180302T222038Z
UID:4651-1520191800-1520191800@timbatemanentertainment.com
SUMMARY:Highside Bar\, Phoenix\, AZ
DESCRIPTION:
URL:https://timbatemanentertainment.com/event/highside-bar-phoenix-az/
CATEGORIES:Comedy Show
END:VEVENT
BEGIN:VEVENT
DTSTART;TZID=America/Phoenix:20180304T193000
DTEND;TZID=America/Phoenix:20180304T193000
DTSTAMP:20260425T130738
CREATED:20180302T222038Z
LAST-MODIFIED:20180302T222038Z
UID:5086-1520191800-1520191800@timbatemanentertainment.com
SUMMARY:Highside Bar\, Phoenix\, AZ
DESCRIPTION:
URL:https://timbatemanentertainment.com/event/highside-bar-phoenix-az-2/
CATEGORIES:Comedy Show
END:VEVENT
BEGIN:VEVENT
DTSTART;TZID=America/Phoenix:20180227T200000
DTEND;TZID=America/Phoenix:20180227T200000
DTSTAMP:20260425T130738
CREATED:20180110T184628Z
LAST-MODIFIED:20180110T184628Z
UID:4585-1519761600-1519761600@timbatemanentertainment.com
SUMMARY:Bridgett's\, Phoenix AZ
DESCRIPTION:
URL:https://timbatemanentertainment.com/event/bridgetts-phoenix-az/
CATEGORIES:Comedy Show
END:VEVENT
BEGIN:VEVENT
DTSTART;TZID=America/Phoenix:20180227T200000
DTEND;TZID=America/Phoenix:20180227T200000
DTSTAMP:20260425T130738
CREATED:20180110T184628Z
LAST-MODIFIED:20180110T184628Z
UID:5065-1519761600-1519761600@timbatemanentertainment.com
SUMMARY:Bridgett's\, Phoenix AZ
DESCRIPTION:
URL:https://timbatemanentertainment.com/event/bridgetts-phoenix-az-3/
CATEGORIES:Comedy Show
END:VEVENT
BEGIN:VEVENT
DTSTART;VALUE=DATE:20180217
DTEND;VALUE=DATE:20180218
DTSTAMP:20260425T130738
CREATED:20170829T161709Z
LAST-MODIFIED:20170829T161709Z
UID:4459-1518825600-1518911999@timbatemanentertainment.com
SUMMARY:Private Event - Canada Day Celebration\, Citrus Gardens\, Mesa\, AZ - 7.30pm
DESCRIPTION:
URL:https://timbatemanentertainment.com/event/private-event-canada-day-celeebration-citrus-gardens-mesa-az-7-30pm/
CATEGORIES:Comedy Show
END:VEVENT
BEGIN:VEVENT
DTSTART;VALUE=DATE:20180217
DTEND;VALUE=DATE:20180218
DTSTAMP:20260425T130738
CREATED:20170829T161709Z
LAST-MODIFIED:20170829T161709Z
UID:5039-1518825600-1518911999@timbatemanentertainment.com
SUMMARY:Private Event - Canada Day Celebration\, Citrus Gardens\, Mesa\, AZ - 7.30pm
DESCRIPTION:
URL:https://timbatemanentertainment.com/event/private-event-canada-day-celeebration-citrus-gardens-mesa-az-7-30pm-2/
CATEGORIES:Comedy Show
END:VEVENT
BEGIN:VEVENT
DTSTART;TZID=America/Phoenix:20180202T190000
DTEND;TZID=America/Phoenix:20180202T210000
DTSTAMP:20260425T130738
CREATED:20171130T202146Z
LAST-MODIFIED:20171130T202146Z
UID:4557-1517598000-1517605200@timbatemanentertainment.com
SUMMARY:3 International Tenors - Attending
DESCRIPTION:
URL:https://timbatemanentertainment.com/event/3-international-tenors-attending/
CATEGORIES:Comedy Show
END:VEVENT
BEGIN:VEVENT
DTSTART;TZID=America/Phoenix:20180202T190000
DTEND;TZID=America/Phoenix:20180202T210000
DTSTAMP:20260425T130738
CREATED:20171130T202146Z
LAST-MODIFIED:20171130T202146Z
UID:5055-1517598000-1517605200@timbatemanentertainment.com
SUMMARY:3 International Tenors - Attending
DESCRIPTION:
URL:https://timbatemanentertainment.com/event/3-international-tenors-attending-2/
CATEGORIES:Comedy Show
END:VEVENT
BEGIN:VEVENT
DTSTART;TZID=America/Phoenix:20180201T203000
DTEND;TZID=America/Phoenix:20180201T203000
DTSTAMP:20260425T130738
CREATED:20180131T155744Z
LAST-MODIFIED:20180131T155744Z
UID:5075-1517517000-1517517000@timbatemanentertainment.com
SUMMARY:LMAO Phoenix - AZ Virtual Studios\, Phoenix AZ
DESCRIPTION:
URL:https://timbatemanentertainment.com/event/lmao-phoenix-az-virtual-studios-phoenix-az-2/
CATEGORIES:Comedy Show
END:VEVENT
BEGIN:VEVENT
DTSTART;TZID=America/Phoenix:20180201T203000
DTEND;TZID=America/Phoenix:20180201T203000
DTSTAMP:20260425T130738
CREATED:20180131T155744Z
LAST-MODIFIED:20180131T155744Z
UID:4616-1517517000-1517517000@timbatemanentertainment.com
SUMMARY:LMAO Phoenix - AZ Virtual Studios\, Phoenix AZ
DESCRIPTION:
URL:https://timbatemanentertainment.com/event/lmao-phoenix-az-virtual-studios-phoenix-az/
CATEGORIES:Comedy Show
END:VEVENT
BEGIN:VEVENT
DTSTART;TZID=America/Phoenix:20180131T200000
DTEND;TZID=America/Phoenix:20180131T200000
DTSTAMP:20260425T130738
CREATED:20180115T140041Z
LAST-MODIFIED:20180115T140041Z
UID:4590-1517428800-1517428800@timbatemanentertainment.com
SUMMARY:The Lounge\, Phoenix\, AZ
DESCRIPTION:
URL:https://timbatemanentertainment.com/event/the-lounge-phoenix-az-2/
CATEGORIES:Comedy Show
END:VEVENT
BEGIN:VEVENT
DTSTART;TZID=America/Phoenix:20180131T200000
DTEND;TZID=America/Phoenix:20180131T200000
DTSTAMP:20260425T130738
CREATED:20180115T140041Z
LAST-MODIFIED:20180115T140041Z
UID:5067-1517428800-1517428800@timbatemanentertainment.com
SUMMARY:The Lounge\, Phoenix\, AZ
DESCRIPTION:
URL:https://timbatemanentertainment.com/event/the-lounge-phoenix-az-2-2/
CATEGORIES:Comedy Show
END:VEVENT
BEGIN:VEVENT
DTSTART;TZID=America/Phoenix:20180125T190000
DTEND;TZID=America/Phoenix:20180125T190000
DTSTAMP:20260425T130738
CREATED:20180121T181506Z
LAST-MODIFIED:20180121T181506Z
UID:4604-1516906800-1516906800@timbatemanentertainment.com
SUMMARY:Estrella Mtn Performing Arts Center\, Goodyear\, AZ with Ivan Pecel
DESCRIPTION:
URL:https://timbatemanentertainment.com/event/estrella-mtn-performing-arts-center-goodyear-az-with-ivan-pecel/
CATEGORIES:Comedy Show
END:VEVENT
BEGIN:VEVENT
DTSTART;TZID=America/Phoenix:20180125T190000
DTEND;TZID=America/Phoenix:20180125T190000
DTSTAMP:20260425T130738
CREATED:20180121T181506Z
LAST-MODIFIED:20180121T181506Z
UID:5074-1516906800-1516906800@timbatemanentertainment.com
SUMMARY:Estrella Mtn Performing Arts Center\, Goodyear\, AZ with Ivan Pecel
DESCRIPTION:
URL:https://timbatemanentertainment.com/event/estrella-mtn-performing-arts-center-goodyear-az-with-ivan-pecel-2/
CATEGORIES:Comedy Show
END:VEVENT
BEGIN:VEVENT
DTSTART;TZID=America/Phoenix:20180119T190000
DTEND;TZID=America/Phoenix:20180119T210000
DTSTAMP:20260425T130738
CREATED:20171130T202036Z
LAST-MODIFIED:20171130T202036Z
UID:4555-1516388400-1516395600@timbatemanentertainment.com
SUMMARY:One of These Nights - Eagles Tribute Band - Attending.
DESCRIPTION:
URL:https://timbatemanentertainment.com/event/one-of-these-nights-eagles-tribute-band-attending/
CATEGORIES:Comedy Show
END:VEVENT
BEGIN:VEVENT
DTSTART;TZID=America/Phoenix:20180119T190000
DTEND;TZID=America/Phoenix:20180119T210000
DTSTAMP:20260425T130738
CREATED:20171130T202036Z
LAST-MODIFIED:20171130T202036Z
UID:5054-1516388400-1516395600@timbatemanentertainment.com
SUMMARY:One of These Nights - Eagles Tribute Band - Attending.
DESCRIPTION:
URL:https://timbatemanentertainment.com/event/one-of-these-nights-eagles-tribute-band-attending-2/
CATEGORIES:Comedy Show
END:VEVENT
BEGIN:VEVENT
DTSTART;TZID=America/Phoenix:20180113T210000
DTEND;TZID=America/Phoenix:20180113T210000
DTSTAMP:20260425T130738
CREATED:20180110T175659Z
LAST-MODIFIED:20180110T175659Z
UID:4578-1515877200-1515877200@timbatemanentertainment.com
SUMMARY:Stand Up Live\, Phoenix AZ
DESCRIPTION:
URL:https://timbatemanentertainment.com/event/stand-up-live-phoenix-az/
CATEGORIES:Comedy Show
END:VEVENT
BEGIN:VEVENT
DTSTART;TZID=America/Phoenix:20180113T210000
DTEND;TZID=America/Phoenix:20180113T210000
DTSTAMP:20260425T130738
CREATED:20180110T175659Z
LAST-MODIFIED:20180110T175659Z
UID:5064-1515877200-1515877200@timbatemanentertainment.com
SUMMARY:Stand Up Live\, Phoenix AZ
DESCRIPTION:
URL:https://timbatemanentertainment.com/event/stand-up-live-phoenix-az-2/
CATEGORIES:Comedy Show
END:VEVENT
BEGIN:VEVENT
DTSTART;TZID=America/Phoenix:20180108T210000
DTEND;TZID=America/Phoenix:20180108T210000
DTSTAMP:20260425T130738
CREATED:20171231T145710Z
LAST-MODIFIED:20171231T145710Z
UID:4568-1515445200-1515445200@timbatemanentertainment.com
SUMMARY:Devil's Advocate - Tempe\, AZ
DESCRIPTION:
URL:https://timbatemanentertainment.com/event/devils-advocate-tempe-az/
CATEGORIES:Comedy Show
END:VEVENT
BEGIN:VEVENT
DTSTART;TZID=America/Phoenix:20180108T210000
DTEND;TZID=America/Phoenix:20180108T210000
DTSTAMP:20260425T130738
CREATED:20171231T145710Z
LAST-MODIFIED:20171231T145710Z
UID:5060-1515445200-1515445200@timbatemanentertainment.com
SUMMARY:Devil's Advocate - Tempe\, AZ
DESCRIPTION:
URL:https://timbatemanentertainment.com/event/devils-advocate-tempe-az-2/
CATEGORIES:Comedy Show
END:VEVENT
BEGIN:VEVENT
DTSTART;TZID=America/Phoenix:20180106T190000
DTEND;TZID=America/Phoenix:20180106T213000
DTSTAMP:20260425T130738
CREATED:20180105T184736Z
LAST-MODIFIED:20180105T184736Z
UID:5062-1515265200-1515274200@timbatemanentertainment.com
SUMMARY:Stir Crazy CC\, Glendale AZ.
DESCRIPTION:
URL:https://timbatemanentertainment.com/event/stir-crazy-cc-glendale-az-7pm-and-9-30pm-2-2/
CATEGORIES:Comedy Show
END:VEVENT
BEGIN:VEVENT
DTSTART;TZID=America/Phoenix:20180106T190000
DTEND;TZID=America/Phoenix:20180106T213000
DTSTAMP:20260425T130738
CREATED:20180105T184736Z
LAST-MODIFIED:20180105T184736Z
UID:4573-1515265200-1515274200@timbatemanentertainment.com
SUMMARY:Stir Crazy CC\, Glendale AZ.
DESCRIPTION:
URL:https://timbatemanentertainment.com/event/stir-crazy-cc-glendale-az-7pm-and-9-30pm-2/
CATEGORIES:Comedy Show
END:VEVENT
BEGIN:VEVENT
DTSTART;TZID=America/Phoenix:20180105T190000
DTEND;TZID=America/Phoenix:20180105T213000
DTSTAMP:20260425T130738
CREATED:20180105T185504Z
LAST-MODIFIED:20180105T185504Z
UID:5063-1515178800-1515187800@timbatemanentertainment.com
SUMMARY:Stir Crazy CC\, Glendale AZ.
DESCRIPTION:
URL:https://timbatemanentertainment.com/event/stir-crazy-cc-glendale-az-2/
CATEGORIES:Comedy Show
END:VEVENT
BEGIN:VEVENT
DTSTART;TZID=America/Phoenix:20180105T190000
DTEND;TZID=America/Phoenix:20180105T213000
DTSTAMP:20260425T130738
CREATED:20180105T185504Z
LAST-MODIFIED:20180105T185504Z
UID:4576-1515178800-1515187800@timbatemanentertainment.com
SUMMARY:Stir Crazy CC\, Glendale AZ.
DESCRIPTION:
URL:https://timbatemanentertainment.com/event/stir-crazy-cc-glendale-az/
CATEGORIES:Comedy Show
END:VEVENT
BEGIN:VEVENT
DTSTART;TZID=America/Phoenix:20180105T000000
DTEND;TZID=America/Phoenix:20180105T000000
DTSTAMP:20260425T130738
CREATED:20180105T184637Z
LAST-MODIFIED:20180105T184637Z
UID:4571-1515110400-1515110400@timbatemanentertainment.com
SUMMARY:Stir Crazy CC - Glendale AZ - 7pm and 9.30pm
DESCRIPTION:
URL:https://timbatemanentertainment.com/event/stir-crazy-cc-glendale-az-7pm-and-9-30pm/
CATEGORIES:Comedy Show
END:VEVENT
BEGIN:VEVENT
DTSTART;TZID=America/Phoenix:20180105T000000
DTEND;TZID=America/Phoenix:20180105T000000
DTSTAMP:20260425T130738
CREATED:20180105T184637Z
LAST-MODIFIED:20180105T184637Z
UID:5061-1515110400-1515110400@timbatemanentertainment.com
SUMMARY:Stir Crazy CC - Glendale AZ - 7pm and 9.30pm
DESCRIPTION:
URL:https://timbatemanentertainment.com/event/stir-crazy-cc-glendale-az-7pm-and-9-30pm-3/
CATEGORIES:Comedy Show
END:VEVENT
BEGIN:VEVENT
DTSTART;TZID=America/Phoenix:20180103T200000
DTEND;TZID=America/Phoenix:20180103T200000
DTSTAMP:20260425T130738
CREATED:20171228T230405Z
LAST-MODIFIED:20171228T230405Z
UID:5059-1515009600-1515009600@timbatemanentertainment.com
SUMMARY:The Lounge - Phoenix\, AZ.
DESCRIPTION:
URL:https://timbatemanentertainment.com/event/the-lounge-phoenix-az-4/
CATEGORIES:Comedy Show
END:VEVENT
BEGIN:VEVENT
DTSTART;TZID=America/Phoenix:20180103T200000
DTEND;TZID=America/Phoenix:20180103T200000
DTSTAMP:20260425T130738
CREATED:20171228T230405Z
LAST-MODIFIED:20171228T230405Z
UID:4566-1515009600-1515009600@timbatemanentertainment.com
SUMMARY:The Lounge - Phoenix\, AZ.
DESCRIPTION:
URL:https://timbatemanentertainment.com/event/the-lounge-phoenix-az/
CATEGORIES:Comedy Show
END:VEVENT
BEGIN:VEVENT
DTSTART;TZID=America/Phoenix:20171228T193000
DTEND;TZID=America/Phoenix:20171228T193000
DTSTAMP:20260425T130738
CREATED:20171228T230312Z
LAST-MODIFIED:20171228T230312Z
UID:4564-1514489400-1514489400@timbatemanentertainment.com
SUMMARY:Third Space - Phoenix\, AZ
DESCRIPTION:
URL:https://timbatemanentertainment.com/event/third-space-phoenix-az/
CATEGORIES:Comedy Show
END:VEVENT
END:VCALENDAR