BEGIN:VCALENDAR
VERSION:2.0
PRODID:-//Tim Bateman Entertainment - ECPv6.15.20//NONSGML v1.0//EN
CALSCALE:GREGORIAN
METHOD:PUBLISH
X-WR-CALNAME:Tim Bateman Entertainment
X-ORIGINAL-URL:https://timbatemanentertainment.com
X-WR-CALDESC:Events for Tim Bateman Entertainment
REFRESH-INTERVAL;VALUE=DURATION:PT1H
X-Robots-Tag:noindex
X-PUBLISHED-TTL:PT1H
BEGIN:VTIMEZONE
TZID:America/Phoenix
BEGIN:STANDARD
TZOFFSETFROM:-0700
TZOFFSETTO:-0700
TZNAME:MST
DTSTART:20240101T000000
END:STANDARD
END:VTIMEZONE
BEGIN:VEVENT
DTSTART;TZID=America/Phoenix:20250907T080000
DTEND;TZID=America/Phoenix:20250921T170000
DTSTAMP:20260425T045337
CREATED:20250317T195223Z
LAST-MODIFIED:20250317T195223Z
UID:5876-1757232000-1758474000@timbatemanentertainment.com
SUMMARY:MSC Cruises - MSC Seashore - Bahamas Itinerary.
DESCRIPTION:
URL:https://timbatemanentertainment.com/event/msc-cruises-msc-seashore-bahamas-itinerary-2/
CATEGORIES:Comedy Show
ATTACH;FMTTYPE=image/png:https://timbatemanentertainment.com/wp-content/uploads/2019/09/bkgrnd-rev-2.png
END:VEVENT
END:VCALENDAR