BEGIN:VCALENDAR
VERSION:2.0
PRODID:-//Tim Bateman Entertainment - ECPv6.15.20//NONSGML v1.0//EN
CALSCALE:GREGORIAN
METHOD:PUBLISH
X-WR-CALNAME:Tim Bateman Entertainment
X-ORIGINAL-URL:https://timbatemanentertainment.com
X-WR-CALDESC:Events for Tim Bateman Entertainment
REFRESH-INTERVAL;VALUE=DURATION:PT1H
X-Robots-Tag:noindex
X-PUBLISHED-TTL:PT1H
BEGIN:VTIMEZONE
TZID:America/Phoenix
BEGIN:STANDARD
TZOFFSETFROM:-0700
TZOFFSETTO:-0700
TZNAME:MST
DTSTART:20250101T000000
END:STANDARD
END:VTIMEZONE
BEGIN:VEVENT
DTSTART;TZID=America/Phoenix:20260413T080000
DTEND;TZID=America/Phoenix:20260424T170000
DTSTAMP:20260424T065138
CREATED:20251218T210517Z
LAST-MODIFIED:20251218T210517Z
UID:5917-1776067200-1777050000@timbatemanentertainment.com
SUMMARY:Carnival Cruises - Carnival Glory - Trans Atlantic
DESCRIPTION:
URL:https://timbatemanentertainment.com/event/carnival-cruises-carnival-glory-trans-atlantic/
CATEGORIES:Private Event
ATTACH;FMTTYPE=image/png:https://timbatemanentertainment.com/wp-content/uploads/2023/03/carnival-1.png
END:VEVENT
BEGIN:VEVENT
DTSTART;TZID=America/Phoenix:20260601T080000
DTEND;TZID=America/Phoenix:20260608T170000
DTSTAMP:20260424T065138
CREATED:20251218T210738Z
LAST-MODIFIED:20251218T210738Z
UID:5919-1780300800-1780938000@timbatemanentertainment.com
SUMMARY:Carnival Cruises - Carnival Glory - Bahamas
DESCRIPTION:
URL:https://timbatemanentertainment.com/event/carnival-cruises-carnival-glory-bahamas/
CATEGORIES:Private Event
ATTACH;FMTTYPE=image/jpeg:https://timbatemanentertainment.com/wp-content/uploads/2025/03/lagoon.jpg
END:VEVENT
BEGIN:VEVENT
DTSTART;TZID=America/Phoenix:20260623T080000
DTEND;TZID=America/Phoenix:20260626T170000
DTSTAMP:20260424T065138
CREATED:20251218T210906Z
LAST-MODIFIED:20251218T210906Z
UID:5921-1782201600-1782493200@timbatemanentertainment.com
SUMMARY:Carnival Cruises - Carnival Venezia - Eastern Caribbean Itinerary
DESCRIPTION:
URL:https://timbatemanentertainment.com/event/carnival-cruises-carnival-venezia-eastern-caribbean-itinerary-2/
CATEGORIES:Private Event
ATTACH;FMTTYPE=image/jpeg:https://timbatemanentertainment.com/wp-content/uploads/2025/03/Sunset-on-the-ship.jpg
END:VEVENT
BEGIN:VEVENT
DTSTART;TZID=America/Phoenix:20260629T080000
DTEND;TZID=America/Phoenix:20260704T170000
DTSTAMP:20260424T065138
CREATED:20251218T211027Z
LAST-MODIFIED:20251218T211027Z
UID:5923-1782720000-1783184400@timbatemanentertainment.com
SUMMARY:Carnival Cruises - Carnival Freedom - Bahamas
DESCRIPTION:
URL:https://timbatemanentertainment.com/event/carnival-cruises-carnival-freedom-bahamas/
CATEGORIES:Private Event
ATTACH;FMTTYPE=image/jpeg:https://timbatemanentertainment.com/wp-content/uploads/2025/03/Deck-Chairs.jpg
END:VEVENT
END:VCALENDAR