BEGIN:VCALENDAR
VERSION:2.0
PRODID:-//Tim Bateman Entertainment - ECPv6.15.20//NONSGML v1.0//EN
CALSCALE:GREGORIAN
METHOD:PUBLISH
X-WR-CALNAME:Tim Bateman Entertainment
X-ORIGINAL-URL:https://timbatemanentertainment.com
X-WR-CALDESC:Events for Tim Bateman Entertainment
REFRESH-INTERVAL;VALUE=DURATION:PT1H
X-Robots-Tag:noindex
X-PUBLISHED-TTL:PT1H
BEGIN:VTIMEZONE
TZID:America/Phoenix
BEGIN:STANDARD
TZOFFSETFROM:-0700
TZOFFSETTO:-0700
TZNAME:MST
DTSTART:20250101T000000
END:STANDARD
END:VTIMEZONE
BEGIN:VEVENT
DTSTART;TZID=America/Phoenix:20260118T080000
DTEND;TZID=America/Phoenix:20260125T170000
DTSTAMP:20260424T184448
CREATED:20251218T205300Z
LAST-MODIFIED:20251218T205553Z
UID:5910-1768723200-1769360400@timbatemanentertainment.com
SUMMARY:MSC Cruises - MSC Grandiosa - Bahamas Caribbean
DESCRIPTION:
URL:https://timbatemanentertainment.com/event/msc-cruises-msc-grandiosa-bahamas-caribbean/
CATEGORIES:Private Event
ATTACH;FMTTYPE=image/jpeg:https://timbatemanentertainment.com/wp-content/uploads/2025/03/Beach-View.jpg
END:VEVENT
END:VCALENDAR